BEGIN:VCALENDAR
VERSION:2.0
PRODID:-//https://www.xn--h1aaafabldhkbrwa3l4c.xn--p1ai///NONSGML kigkonsult.se iCalcreator 2.10.15//
METHOD:PUBLISH
BEGIN:VEVENT
UID:20260420T004435MSK-7219Uhtp25@https://www.xn--h1aaafabldhkbrwa3l4c.xn--
 p1ai/
DTSTAMP:20260419T214435Z
DESCRIPTION:Участие во Всероссийской акции «День короткометражного кино».\n
 Программа короткометражных фильмов будет демонстрироваться в регионах Респ
 ублики по заявкам учреждений культуры и образовательных организаций.\nПока
 зы программ акции в Симферополе:\n- Крымский киномедиацентр\, г. Симферопо
 ль\, ул. Крылова\, 37.\n- Ялтинская киностудия\, ул. Севастопольская\, 4.
 \n- Малая академия наук «Искатель»\, ул. Гоголя\, 26 https://www.xn--h1aaa
 fabldhkbrwa3l4c.xn--p1ai/meropriyatiya/kalendar-sobytij/event/470-uchastie
 -vo-vserossijskoj-aktsii-den-korotkometrazhnogo-kino
DTSTART:20191215T075900Z
DTEND:20191225T095900Z
LOCATION:Республика Крым (Крым)
SUMMARY:Участие во Всероссийской акции «День короткометражного кино»
URL:https://www.xn--h1aaafabldhkbrwa3l4c.xn--p1ai/meropriyatiya/kalendar-so
 bytij/event/470-uchastie-vo-vserossijskoj-aktsii-den-korotkometrazhnogo-ki
 no
END:VEVENT
BEGIN:VEVENT
UID:20260420T004435MSK-7222VCr1FU@https://www.xn--h1aaafabldhkbrwa3l4c.xn--
 p1ai/
DTSTAMP:20260419T214435Z
DESCRIPTION: https://www.xn--h1aaafabldhkbrwa3l4c.xn--p1ai/meropriyatiya/ka
 lendar-sobytij/event/471-kruglyj-stol-molodezhnaya-problematika-v-sovetsko
 m-kinematografe-sovmestno-s-filosofskim-fakultetom-kfu
DTSTART:20191224T080000Z
DTEND:20191224T100000Z
LOCATION:КФУ 'Свечка' (просп. Вернадского\, 20\, Симферополь)
SUMMARY:Круглый стол «Молодежная проблематика в советском кинематографе»\, 
 совместно с философским факультетом КФУ
URL:https://www.xn--h1aaafabldhkbrwa3l4c.xn--p1ai/meropriyatiya/kalendar-so
 bytij/event/471-kruglyj-stol-molodezhnaya-problematika-v-sovetskom-kinemat
 ografe-sovmestno-s-filosofskim-fakultetom-kfu
END:VEVENT
BEGIN:VEVENT
UID:20260420T004435MSK-7224ae1TVV@https://www.xn--h1aaafabldhkbrwa3l4c.xn--
 p1ai/
DTSTAMP:20260419T214435Z
DESCRIPTION: https://www.xn--h1aaafabldhkbrwa3l4c.xn--p1ai/meropriyatiya/ka
 lendar-sobytij/event/473-kinomeropriyatie-novogodnij-i-rozhdestvenskij-kin
 oserpantin
DTSTART:20191223T081500Z
DTEND:20191227T101500Z
LOCATION:Республика Крым (Крым)
SUMMARY:Киномероприятие «Новогодний и Рождественский киносерпантин»
URL:https://www.xn--h1aaafabldhkbrwa3l4c.xn--p1ai/meropriyatiya/kalendar-so
 bytij/event/473-kinomeropriyatie-novogodnij-i-rozhdestvenskij-kinoserpanti
 n
END:VEVENT
END:VCALENDAR
