BEGIN:VCALENDAR
VERSION:2.0
PRODID:-//https://www.xn--h1aaafabldhkbrwa3l4c.xn--p1ai///NONSGML kigkonsult.se iCalcreator 2.10.15//
METHOD:PUBLISH
BEGIN:VEVENT
UID:20260424T075632MSK-3623IrrVuP@https://www.xn--h1aaafabldhkbrwa3l4c.xn--
 p1ai/
DTSTAMP:20260424T045632Z
DESCRIPTION:Участие во Всероссийской акции «День короткометражного кино».\n
 Программа короткометражных фильмов будет демонстрироваться в регионах Респ
 ублики по заявкам учреждений культуры и образовательных организаций.\nПока
 зы программы будут проводиться в Крымском киномедиацентре с 16.00 до 20.00
  в течение указанных дней. https://www.xn--h1aaafabldhkbrwa3l4c.xn--p1ai/m
 eropriyatiya/kalendar-sobytij/event/344-uchastie-vo-vserossijskoj-aktsii-d
 en-korotkometrazhnogo-kino
DTSTART:20181220T091000Z
DTEND:20181221T111000Z
LOCATION:Республика Крым (Крым)
SUMMARY:Участие во Всероссийской акции «День короткометражного кино».
URL:https://www.xn--h1aaafabldhkbrwa3l4c.xn--p1ai/meropriyatiya/kalendar-so
 bytij/event/344-uchastie-vo-vserossijskoj-aktsii-den-korotkometrazhnogo-ki
 no
END:VEVENT
BEGIN:VEVENT
UID:20260424T075632MSK-3627IVI29X@https://www.xn--h1aaafabldhkbrwa3l4c.xn--
 p1ai/
DTSTAMP:20260424T045632Z
DESCRIPTION:ВСЕРОССИЙСКАЯ АКЦИЯ «ДЕНЬ КОРОТКОМЕТРАЖНОГО КИНО» В РЕСПУБЛИКЕ 
 КРЫМ\n&nbsp\;На мероприятиях зрителей ждет интересная подборка фильмов.\n&
 nbsp\;Для учреждений культуры Республики Крым в период с 15 по 25 декабря 
 будут показаны 5 некоммерческих альманахов короткого метра\, отобранных Мо
 лодежным центром Союза кинематографистов России под рубриками – «Семейное 
 кино»\, «Звезды в коротком метре»\, «Фестивальные хиты\, «Один против всех
 »\, «Детская анимация»\, «Экранизации».\n&nbsp\;В Крыму Всероссийскую акци
 ю организовывает Государственное бюджетное учреждение «Крымский киномедиац
 ентр» при содействии Министерства культуры Республики Крым. https://www.xn
 --h1aaafabldhkbrwa3l4c.xn--p1ai/meropriyatiya/kalendar-sobytij/event/346-v
 serossijskaya-aktsiya-den-korotkometrazhnogo-kino
DTSTART:20181215T103600Z
DTEND:20181225T123600Z
LOCATION:Республика Крым (Крым)
SUMMARY:Всероссийская акция «День короткометражного кино»
URL:https://www.xn--h1aaafabldhkbrwa3l4c.xn--p1ai/meropriyatiya/kalendar-so
 bytij/event/346-vserossijskaya-aktsiya-den-korotkometrazhnogo-kino
END:VEVENT
END:VCALENDAR
