BEGIN:VCALENDAR
VERSION:2.0
PRODID:-//https://www.xn--h1aaafabldhkbrwa3l4c.xn--p1ai///NONSGML kigkonsult.se iCalcreator 2.10.15//
METHOD:PUBLISH
BEGIN:VEVENT
UID:20260420T022940MSK-1668if1JkI@https://www.xn--h1aaafabldhkbrwa3l4c.xn--
 p1ai/
DTSTAMP:20260419T232940Z
DESCRIPTION:Киномероприятие «День рождения Деда Мороза» https://www.xn--h1a
 aafabldhkbrwa3l4c.xn--p1ai/meropriyatiya/kalendar-sobytij/event/463-kinome
 ropriyatie-den-rozhdeniya-deda-moroza
DTSTART:20191217T113000Z
DTEND:20191217T133000Z
LOCATION:ГБУ РК 'Крымский киномедиацентр' (г. Симферополь\, ул. Крылова\, 3
 7)
SUMMARY:Киномероприятие «День рождения Деда Мороза»
URL:https://www.xn--h1aaafabldhkbrwa3l4c.xn--p1ai/meropriyatiya/kalendar-so
 bytij/event/463-kinomeropriyatie-den-rozhdeniya-deda-moroza
END:VEVENT
BEGIN:VEVENT
UID:20260420T022940MSK-1670uak6Lh@https://www.xn--h1aaafabldhkbrwa3l4c.xn--
 p1ai/
DTSTAMP:20260419T232940Z
DESCRIPTION:Киномероприятие «День рождения Деда Мороза» https://www.xn--h1a
 aafabldhkbrwa3l4c.xn--p1ai/meropriyatiya/kalendar-sobytij/event/464-kinome
 ropriyatie-den-rozhdeniya-deda-moroza
DTSTART:20191217T093000Z
DTEND:20191217T113000Z
LOCATION:Ялтинская киностудия (ул. Севастопольская\, 4\, Ялта)
SUMMARY:Киномероприятие «День рождения Деда Мороза»
URL:https://www.xn--h1aaafabldhkbrwa3l4c.xn--p1ai/meropriyatiya/kalendar-so
 bytij/event/464-kinomeropriyatie-den-rozhdeniya-deda-moroza
END:VEVENT
BEGIN:VEVENT
UID:20260420T022940MSK-16724likw4@https://www.xn--h1aaafabldhkbrwa3l4c.xn--
 p1ai/
DTSTAMP:20260419T232940Z
DESCRIPTION: https://www.xn--h1aaafabldhkbrwa3l4c.xn--p1ai/meropriyatiya/ka
 lendar-sobytij/event/466-master-klass-metodistov-kmts-kurtbedinovoj-m-e-i-
 godorozha-a-o-po-animatsii
DTSTART:20191217T113000Z
DTEND:20191217T133000Z
LOCATION:Ялтинская киностудия (ул. Севастопольская\, 4\, Ялта)
SUMMARY:Мастер-класс методистов КМЦ Куртбединовой М.Э. и Годорожа А.О. по а
 нимации
URL:https://www.xn--h1aaafabldhkbrwa3l4c.xn--p1ai/meropriyatiya/kalendar-so
 bytij/event/466-master-klass-metodistov-kmts-kurtbedinovoj-m-e-i-godorozha
 -a-o-po-animatsii
END:VEVENT
BEGIN:VEVENT
UID:20260420T022940MSK-1674CMPlrl@https://www.xn--h1aaafabldhkbrwa3l4c.xn--
 p1ai/
DTSTAMP:20260419T232940Z
DESCRIPTION: https://www.xn--h1aaafabldhkbrwa3l4c.xn--p1ai/meropriyatiya/ka
 lendar-sobytij/event/467-master-klass-metodistov-kmts-kurtbedinovoj-m-e-i-
 godorozha-a-o-po-animatsii
DTSTART:20191221T083000Z
DTEND:20191221T103000Z
LOCATION:ГБУ РК 'Крымский киномедиацентр' (г. Симферополь\, ул. Крылова\, 3
 7)
SUMMARY:Мастер-класс методистов КМЦ Куртбединовой М.Э. и Годорожа А.О. по а
 нимации
URL:https://www.xn--h1aaafabldhkbrwa3l4c.xn--p1ai/meropriyatiya/kalendar-so
 bytij/event/467-master-klass-metodistov-kmts-kurtbedinovoj-m-e-i-godorozha
 -a-o-po-animatsii
END:VEVENT
BEGIN:VEVENT
UID:20260420T022940MSK-1675UaVPRa@https://www.xn--h1aaafabldhkbrwa3l4c.xn--
 p1ai/
DTSTAMP:20260419T232940Z
DESCRIPTION: https://www.xn--h1aaafabldhkbrwa3l4c.xn--p1ai/meropriyatiya/ka
 lendar-sobytij/event/468-master-klass-po-kino-i-mediaobrazovaniyu-provodit
 -zamestitel-direktora-kutsenko-e-v
DTSTART:20191217T120000Z
DTEND:20191217T140000Z
LOCATION:Ялтинская киностудия (ул. Севастопольская\, 4\, Ялта)
SUMMARY:Мастер-класс по кино- и медиаобразованию\, проводит заместитель дир
 ектора Куценко Е.В.
URL:https://www.xn--h1aaafabldhkbrwa3l4c.xn--p1ai/meropriyatiya/kalendar-so
 bytij/event/468-master-klass-po-kino-i-mediaobrazovaniyu-provodit-zamestit
 el-direktora-kutsenko-e-v
END:VEVENT
BEGIN:VEVENT
UID:20260420T022940MSK-1677Pl3VsR@https://www.xn--h1aaafabldhkbrwa3l4c.xn--
 p1ai/
DTSTAMP:20260419T232940Z
DESCRIPTION: https://www.xn--h1aaafabldhkbrwa3l4c.xn--p1ai/meropriyatiya/ka
 lendar-sobytij/event/469-provedenie-seminara-treninga-prakticheskoe-kino-i
 -mediaobrazovanie-uchimsya-analizirovat-filmy-dlya-pedagogov-bibliotekarej
 -i-metodistov-tsks-v-krymskom-kinomediatsentre
DTSTART:20191221T070000Z
DTEND:20191221T090000Z
LOCATION:ГБУ РК 'Крымский киномедиацентр' (г. Симферополь\, ул. Крылова\, 3
 7)
SUMMARY:Проведение семинара-тренинга «Практическое кино- и медиаобразование
 . Учимся анализировать фильмы» для педагогов\, библиотекарей и методистов 
 ЦКС в Крымском киномедиацентре
URL:https://www.xn--h1aaafabldhkbrwa3l4c.xn--p1ai/meropriyatiya/kalendar-so
 bytij/event/469-provedenie-seminara-treninga-prakticheskoe-kino-i-mediaobr
 azovanie-uchimsya-analizirovat-filmy-dlya-pedagogov-bibliotekarej-i-metodi
 stov-tsks-v-krymskom-kinomediatsentre
END:VEVENT
BEGIN:VEVENT
UID:20260420T022940MSK-1680of4mXh@https://www.xn--h1aaafabldhkbrwa3l4c.xn--
 p1ai/
DTSTAMP:20260419T232940Z
DESCRIPTION:Участие во Всероссийской акции «День короткометражного кино».\n
 Программа короткометражных фильмов будет демонстрироваться в регионах Респ
 ублики по заявкам учреждений культуры и образовательных организаций.\nПока
 зы программ акции в Симферополе:\n- Крымский киномедиацентр\, г. Симферопо
 ль\, ул. Крылова\, 37.\n- Ялтинская киностудия\, ул. Севастопольская\, 4.
 \n- Малая академия наук «Искатель»\, ул. Гоголя\, 26 https://www.xn--h1aaa
 fabldhkbrwa3l4c.xn--p1ai/meropriyatiya/kalendar-sobytij/event/470-uchastie
 -vo-vserossijskoj-aktsii-den-korotkometrazhnogo-kino
DTSTART:20191215T075900Z
DTEND:20191225T095900Z
LOCATION:Республика Крым (Крым)
SUMMARY:Участие во Всероссийской акции «День короткометражного кино»
URL:https://www.xn--h1aaafabldhkbrwa3l4c.xn--p1ai/meropriyatiya/kalendar-so
 bytij/event/470-uchastie-vo-vserossijskoj-aktsii-den-korotkometrazhnogo-ki
 no
END:VEVENT
END:VCALENDAR
