BEGIN:VCALENDAR
VERSION:2.0
PRODID:-//https://www.xn--h1aaafabldhkbrwa3l4c.xn--p1ai///NONSGML kigkonsult.se iCalcreator 2.10.15//
METHOD:PUBLISH
BEGIN:VEVENT
UID:20260420T055140MSK-8411wszmhS@https://www.xn--h1aaafabldhkbrwa3l4c.xn--
 p1ai/
DTSTAMP:20260420T025140Z
DESCRIPTION:Тематическая кинопрограмма к Международному дню борьбы со СПИДо
 м.\nСотрудники учреждения подготовят и разошлют программу фильмов для демо
 нстрации в учреждениях культуры и образовательных организациях (киноклубах
 ) Республики Крым. https://www.xn--h1aaafabldhkbrwa3l4c.xn--p1ai/meropriya
 tiya/kalendar-sobytij/event/458-tematicheskaya-kinoprogramma-k-mezhdunarod
 nomu-dnyu-borby-so-spidom
DTSTART:20191201T073300Z
DTEND:20191204T093300Z
LOCATION:Республика Крым (Крым)
SUMMARY:Тематическая кинопрограмма к Международному дню борьбы со СПИДом
URL:https://www.xn--h1aaafabldhkbrwa3l4c.xn--p1ai/meropriyatiya/kalendar-so
 bytij/event/458-tematicheskaya-kinoprogramma-k-mezhdunarodnomu-dnyu-borby-
 so-spidom
END:VEVENT
BEGIN:VEVENT
UID:20260420T055140MSK-8414MkGAL5@https://www.xn--h1aaafabldhkbrwa3l4c.xn--
 p1ai/
DTSTAMP:20260420T025140Z
DESCRIPTION:Тематическая кинопрограмма к Международному дню инвалидов.\nСот
 рудники учреждения подготовят и разошлют программу фильмов для демонстраци
 и в учреждениях культуры и образовательных организациях (киноклубах) Респу
 блики Крым. https://www.xn--h1aaafabldhkbrwa3l4c.xn--p1ai/meropriyatiya/ka
 lendar-sobytij/event/459-tematicheskaya-kinoprogramma-k-mezhdunarodnomu-dn
 yu-invalidov
DTSTART:20191202T073500Z
DTEND:20191204T093500Z
LOCATION:Республика Крым (Крым)
SUMMARY:Тематическая кинопрограмма к Международному дню инвалидов
URL:https://www.xn--h1aaafabldhkbrwa3l4c.xn--p1ai/meropriyatiya/kalendar-so
 bytij/event/459-tematicheskaya-kinoprogramma-k-mezhdunarodnomu-dnyu-invali
 dov
END:VEVENT
BEGIN:VEVENT
UID:20260420T055140MSK-8416bOXBX1@https://www.xn--h1aaafabldhkbrwa3l4c.xn--
 p1ai/
DTSTAMP:20260420T025140Z
DESCRIPTION:Тематическая программа фильмов правовой направленности к Междун
 ародному дню прав человека\nСотрудники учреждения подготовят и разошлют пр
 ограмму фильмов для демонстрации в учреждениях культуры и образовательных 
 организациях (киноклубах) Республики Крым. https://www.xn--h1aaafabldhkbrw
 a3l4c.xn--p1ai/meropriyatiya/kalendar-sobytij/event/460-tematicheskaya-pro
 gramma-filmov-pravovoj-napravlennosti-k-mezhdunarodnomu-dnyu-prav-chelovek
 a
DTSTART:20191207T073700Z
DTEND:20191211T093700Z
LOCATION:Республика Крым (Крым)
SUMMARY:Тематическая программа фильмов правовой направленности к Международ
 ному дню прав человека 
URL:https://www.xn--h1aaafabldhkbrwa3l4c.xn--p1ai/meropriyatiya/kalendar-so
 bytij/event/460-tematicheskaya-programma-filmov-pravovoj-napravlennosti-k-
 mezhdunarodnomu-dnyu-prav-cheloveka
END:VEVENT
BEGIN:VEVENT
UID:20260420T055140MSK-8418be99Ui@https://www.xn--h1aaafabldhkbrwa3l4c.xn--
 p1ai/
DTSTAMP:20260420T025140Z
DESCRIPTION:Тематическая кинопрограмма к Дню Конституции Российской Федерац
 ии\nСотрудники учреждения подготовят и разошлют программу фильмов для демо
 нстрации в учреждениях культуры и образовательных организациях (киноклубах
 ) Республики Крым. https://www.xn--h1aaafabldhkbrwa3l4c.xn--p1ai/meropriya
 tiya/kalendar-sobytij/event/462-tematicheskaya-kinoprogramma-k-dnyu-konsti
 tutsii-rossijskoj-federatsii
DTSTART:20191208T074100Z
DTEND:20191213T094100Z
LOCATION:Республика Крым (Крым)
SUMMARY:Тематическая кинопрограмма к Дню Конституции Российской Федерации
URL:https://www.xn--h1aaafabldhkbrwa3l4c.xn--p1ai/meropriyatiya/kalendar-so
 bytij/event/462-tematicheskaya-kinoprogramma-k-dnyu-konstitutsii-rossijsko
 j-federatsii
END:VEVENT
END:VCALENDAR
