BEGIN:VCALENDAR
VERSION:2.0
PRODID:-//https://www.xn--h1aaafabldhkbrwa3l4c.xn--p1ai///NONSGML kigkonsult.se iCalcreator 2.10.15//
METHOD:PUBLISH
BEGIN:VEVENT
UID:20260420T073044MSK-1061W7cmos@https://www.xn--h1aaafabldhkbrwa3l4c.xn--
 p1ai/
DTSTAMP:20260420T043044Z
DESCRIPTION:Мастер-класс по школьному телевидению\, проводит заместитель ди
 ректора Куценко Е.В. https://www.xn--h1aaafabldhkbrwa3l4c.xn--p1ai/meropri
 yatiya/kalendar-sobytij/event/444-master-klass-po-shkolnomu-televideniyu
DTSTART:20191129T120000Z
DTEND:20191129T140000Z
LOCATION:Ялтинская киностудия (ул. Севастопольская\, 4\, Ялта)
SUMMARY:Мастер-класс по школьному телевидению
URL:https://www.xn--h1aaafabldhkbrwa3l4c.xn--p1ai/meropriyatiya/kalendar-so
 bytij/event/444-master-klass-po-shkolnomu-televideniyu
END:VEVENT
BEGIN:VEVENT
UID:20260420T073044MSK-1065fGHAWo@https://www.xn--h1aaafabldhkbrwa3l4c.xn--
 p1ai/
DTSTAMP:20260420T043044Z
DESCRIPTION:Мастер-класс методистов КМЦ Куртбединовой М.Э. и Годорожа А.О. 
 по анимации https://www.xn--h1aaafabldhkbrwa3l4c.xn--p1ai/meropriyatiya/ka
 lendar-sobytij/event/447-master-klass-po-animatsii
DTSTART:20191129T113000Z
DTEND:20191129T133000Z
LOCATION:Ялтинская киностудия (ул. Севастопольская\, 4\, Ялта)
SUMMARY:Мастер-класс по анимации
URL:https://www.xn--h1aaafabldhkbrwa3l4c.xn--p1ai/meropriyatiya/kalendar-so
 bytij/event/447-master-klass-po-animatsii
END:VEVENT
BEGIN:VEVENT
UID:20260420T073044MSK-1067uhaxXl@https://www.xn--h1aaafabldhkbrwa3l4c.xn--
 p1ai/
DTSTAMP:20260420T043044Z
DESCRIPTION:Сотрудники учреждения подготовят и разошлют программу фильмов д
 ля демонстрации в учреждениях культуры и образовательных организациях (кин
 оклубах) Республики Крым. https://www.xn--h1aaafabldhkbrwa3l4c.xn--p1ai/me
 ropriyatiya/kalendar-sobytij/event/452-tematicheskaya-programma-k-dnyu-mat
 eri-v-rossii-poslednee-voskresene-noyabrya
DTSTART:20191125T093700Z
DTEND:20191130T113700Z
LOCATION:Республика Крым (Крым)
SUMMARY:Тематическая программа к Дню матери в России (последнее воскресенье
  ноября).
URL:https://www.xn--h1aaafabldhkbrwa3l4c.xn--p1ai/meropriyatiya/kalendar-so
 bytij/event/452-tematicheskaya-programma-k-dnyu-materi-v-rossii-poslednee-
 voskresene-noyabrya
END:VEVENT
BEGIN:VEVENT
UID:20260420T073044MSK-10754gAmPj@https://www.xn--h1aaafabldhkbrwa3l4c.xn--
 p1ai/
DTSTAMP:20260420T043044Z
DESCRIPTION:Тематическая кинопрограмма к Международному дню борьбы со СПИДо
 м.\nСотрудники учреждения подготовят и разошлют программу фильмов для демо
 нстрации в учреждениях культуры и образовательных организациях (киноклубах
 ) Республики Крым. https://www.xn--h1aaafabldhkbrwa3l4c.xn--p1ai/meropriya
 tiya/kalendar-sobytij/event/458-tematicheskaya-kinoprogramma-k-mezhdunarod
 nomu-dnyu-borby-so-spidom
DTSTART:20191201T073300Z
DTEND:20191204T093300Z
LOCATION:Республика Крым (Крым)
SUMMARY:Тематическая кинопрограмма к Международному дню борьбы со СПИДом
URL:https://www.xn--h1aaafabldhkbrwa3l4c.xn--p1ai/meropriyatiya/kalendar-so
 bytij/event/458-tematicheskaya-kinoprogramma-k-mezhdunarodnomu-dnyu-borby-
 so-spidom
END:VEVENT
BEGIN:VEVENT
UID:20260420T073044MSK-1077SWN9mV@https://www.xn--h1aaafabldhkbrwa3l4c.xn--
 p1ai/
DTSTAMP:20260420T043044Z
DESCRIPTION: https://www.xn--h1aaafabldhkbrwa3l4c.xn--p1ai/meropriyatiya/ka
 lendar-sobytij/event/474-otkrytoe-zanyatie-po-semke-montazhu-i-animatsii
DTSTART:20191130T120000Z
DTEND:20191130T140000Z
LOCATION:ГБУ РК 'Крымский киномедиацентр' (г. Симферополь\, ул. Крылова\, 3
 7)
SUMMARY:Открытое занятие по съемке\, монтажу и анимации
URL:https://www.xn--h1aaafabldhkbrwa3l4c.xn--p1ai/meropriyatiya/kalendar-so
 bytij/event/474-otkrytoe-zanyatie-po-semke-montazhu-i-animatsii
END:VEVENT
END:VCALENDAR
