BEGIN:VCALENDAR
VERSION:2.0
PRODID:-//https://www.xn--h1aaafabldhkbrwa3l4c.xn--p1ai///NONSGML kigkonsult.se iCalcreator 2.10.15//
METHOD:PUBLISH
BEGIN:VEVENT
UID:20260420T085543MSK-0413B04vBv@https://www.xn--h1aaafabldhkbrwa3l4c.xn--
 p1ai/
DTSTAMP:20260420T055543Z
DESCRIPTION:Семинар-тренинг «Практическое кино- и медиаобразование. Методы 
 работы с фильмом в школьном киноклубе» для педагогов\, библиотекарей\, мет
 одистов ЦКС. https://www.xn--h1aaafabldhkbrwa3l4c.xn--p1ai/meropriyatiya/k
 alendar-sobytij/event/439-seminar-trening-prakticheskoe-kino-i-mediaobrazo
 vanie-metody-raboty-s-filmom-v-shkolnom-kinoklube-dlya-pedagogov-bibliotek
 arej-metodistov-tsks
DTSTART:20191122T120000Z
DTEND:20191122T140000Z
LOCATION:Ялтинская киностудия (ул. Севастопольская\, 4\, Ялта)
SUMMARY:Семинар-тренинг «Практическое кино- и медиаобразование. Методы рабо
 ты с фильмом в школьном киноклубе» для педагогов\, библиотекарей\, методис
 тов ЦКС.
URL:https://www.xn--h1aaafabldhkbrwa3l4c.xn--p1ai/meropriyatiya/kalendar-so
 bytij/event/439-seminar-trening-prakticheskoe-kino-i-mediaobrazovanie-meto
 dy-raboty-s-filmom-v-shkolnom-kinoklube-dlya-pedagogov-bibliotekarej-metod
 istov-tsks
END:VEVENT
BEGIN:VEVENT
UID:20260420T085543MSK-0415GGFU8F@https://www.xn--h1aaafabldhkbrwa3l4c.xn--
 p1ai/
DTSTAMP:20260420T055543Z
DESCRIPTION:Мастер-класс методиста КМЦ Фоломеевой А.М. по созданию видеофил
 ьмов&nbsp\; https://www.xn--h1aaafabldhkbrwa3l4c.xn--p1ai/meropriyatiya/ka
 lendar-sobytij/event/445-master-klass-metodista-kmts-folomeevoj-a-m-po-soz
 daniyu-videofilmov
DTSTART:20191122T120000Z
DTEND:20191122T140000Z
LOCATION:Ялтинская киностудия (ул. Севастопольская\, 4\, Ялта)
SUMMARY:Мастер-класс методиста КМЦ Фоломеевой А.М. по созданию видеофильмов
  
URL:https://www.xn--h1aaafabldhkbrwa3l4c.xn--p1ai/meropriyatiya/kalendar-so
 bytij/event/445-master-klass-metodista-kmts-folomeevoj-a-m-po-sozdaniyu-vi
 deofilmov
END:VEVENT
BEGIN:VEVENT
UID:20260420T085543MSK-0417v29rts@https://www.xn--h1aaafabldhkbrwa3l4c.xn--
 p1ai/
DTSTAMP:20260420T055543Z
DESCRIPTION:Киномероприятие к Всемирному Дню ребенка в МБОУ «Родниковская ш
 кола-гимназия» Симферопольского района. Заседание киноклуба с показом и ан
 ализом документальных фильмов. Проводит методист учреждения Бондарчук А.В.
  https://www.xn--h1aaafabldhkbrwa3l4c.xn--p1ai/meropriyatiya/kalendar-soby
 tij/event/451-kinomeropriyatie-k-vsemirnomu-dnyu-rebenka-v-mbou-rodnikovsk
 aya-shkola-gimnaziya-simferopolskogo-rajona
DTSTART:20191120T113000Z
DTEND:20191120T143000Z
LOCATION:МБОУ «Родниковская школа-гимназия» Симферопольского района (Родник
 овое)
SUMMARY:Киномероприятие к Всемирному Дню ребенка в МБОУ «Родниковская школа
 -гимназия» Симферопольского района
URL:https://www.xn--h1aaafabldhkbrwa3l4c.xn--p1ai/meropriyatiya/kalendar-so
 bytij/event/451-kinomeropriyatie-k-vsemirnomu-dnyu-rebenka-v-mbou-rodnikov
 skaya-shkola-gimnaziya-simferopolskogo-rajona
END:VEVENT
BEGIN:VEVENT
UID:20260420T085543MSK-0419AXVVc6@https://www.xn--h1aaafabldhkbrwa3l4c.xn--
 p1ai/
DTSTAMP:20260420T055543Z
DESCRIPTION: https://www.xn--h1aaafabldhkbrwa3l4c.xn--p1ai/meropriyatiya/ka
 lendar-sobytij/event/457-seminar-trening-prakticheskoe-kino-i-mediaobrazov
 anie-metody-raboty-s-filmom-v-shkolnom-kinoklube-dlya-pedagogov-biblioteka
 rej-metodistov-tsks
DTSTART:20191123T070000Z
DTEND:20191123T090000Z
LOCATION:ГБУ РК 'Крымский киномедиацентр' (г. Симферополь\, ул. Крылова\, 3
 7)
SUMMARY:Семинар-тренинг «Практическое кино- и медиаобразование. Методы рабо
 ты с фильмом в школьном киноклубе» для педагогов\, библиотекарей\, методис
 тов ЦКС.
URL:https://www.xn--h1aaafabldhkbrwa3l4c.xn--p1ai/meropriyatiya/kalendar-so
 bytij/event/457-seminar-trening-prakticheskoe-kino-i-mediaobrazovanie-meto
 dy-raboty-s-filmom-v-shkolnom-kinoklube-dlya-pedagogov-bibliotekarej-metod
 istov-tsks
END:VEVENT
END:VCALENDAR
