BEGIN:VCALENDAR
VERSION:2.0
PRODID:-//https://www.xn--h1aaafabldhkbrwa3l4c.xn--p1ai///NONSGML kigkonsult.se iCalcreator 2.10.15//
METHOD:PUBLISH
BEGIN:VEVENT
UID:20260424T075632MSK-9431IbP3UG@https://www.xn--h1aaafabldhkbrwa3l4c.xn--
 p1ai/
DTSTAMP:20260424T045632Z
DESCRIPTION:Торжественное мероприятие\, посвященное 85-летию кинопрокату в 
 Крыму «Юбилейный марафон».&nbsp\; https://www.xn--h1aaafabldhkbrwa3l4c.xn-
 -p1ai/meropriyatiya/kalendar-sobytij/event/334-torzhestvennoe-meropriyatie
 -posvyashchennoe-85-letiyu-kinoprokatu-v-krymu
DTSTART:20181114T070100Z
DTEND:20181114T170100Z
LOCATION:ГБУ РК 'Крымский киномедиацентр' (г. Симферополь\, ул. Крылова\, 3
 7)
SUMMARY:Торжественное мероприятие\, посвященное 85-летию кинопрокату в Крым
 у
URL:https://www.xn--h1aaafabldhkbrwa3l4c.xn--p1ai/meropriyatiya/kalendar-so
 bytij/event/334-torzhestvennoe-meropriyatie-posvyashchennoe-85-letiyu-kino
 prokatu-v-krymu
END:VEVENT
BEGIN:VEVENT
UID:20260424T075632MSK-9435ncpLht@https://www.xn--h1aaafabldhkbrwa3l4c.xn--
 p1ai/
DTSTAMP:20260424T045632Z
DESCRIPTION:38 Международный студенческий фестиваль ВГИК https://www.xn--h1
 aaafabldhkbrwa3l4c.xn--p1ai/meropriyatiya/kalendar-sobytij/event/336-38-me
 zhdunarodnyj-studencheskij-festival-vgik
DTSTART:20181112T071100Z
DTEND:20181116T111100Z
LOCATION:Республика Крым (Крым)
SUMMARY:38 Международный студенческий фестиваль ВГИК
URL:https://www.xn--h1aaafabldhkbrwa3l4c.xn--p1ai/meropriyatiya/kalendar-so
 bytij/event/336-38-mezhdunarodnyj-studencheskij-festival-vgik
END:VEVENT
END:VCALENDAR
