BEGIN:VCALENDAR
VERSION:2.0
PRODID:-//https://www.xn--h1aaafabldhkbrwa3l4c.xn--p1ai///NONSGML kigkonsult.se iCalcreator 2.10.15//
METHOD:PUBLISH
BEGIN:VEVENT
UID:20260424T091219MSK-0597VTTcJ5@https://www.xn--h1aaafabldhkbrwa3l4c.xn--
 p1ai/
DTSTAMP:20260424T061219Z
DESCRIPTION:Тематическая кинопрограмма к Международному дню анимации (28 ок
 тября) https://www.xn--h1aaafabldhkbrwa3l4c.xn--p1ai/meropriyatiya/kalenda
 r-sobytij/event/329-tematicheskaya-kinoprogramma-k-mezhdunarodnomu-dnyu-an
 imatsii
DTSTART:20181022T100700Z
DTEND:20181028T120700Z
LOCATION:Республика Крым (Крым)
SUMMARY:Тематическая кинопрограмма к Международному дню анимации
URL:https://www.xn--h1aaafabldhkbrwa3l4c.xn--p1ai/meropriyatiya/kalendar-so
 bytij/event/329-tematicheskaya-kinoprogramma-k-mezhdunarodnomu-dnyu-animat
 sii
END:VEVENT
END:VCALENDAR
