BEGIN:VCALENDAR
VERSION:2.0
PRODID:-//https://www.xn--h1aaafabldhkbrwa3l4c.xn--p1ai///NONSGML kigkonsult.se iCalcreator 2.10.15//
METHOD:PUBLISH
BEGIN:VEVENT
UID:20260423T191726MSK-83268S33Ju@https://www.xn--h1aaafabldhkbrwa3l4c.xn--
 p1ai/
DTSTAMP:20260423T161726Z
DESCRIPTION:Проведение IV Ялтинского международного кинофестиваля «Евразийс
 кий мост» (по отдельному плану) https://www.xn--h1aaafabldhkbrwa3l4c.xn--p
 1ai/meropriyatiya/kalendar-sobytij/event/415-provedenie-iv-yaltinskogo-mez
 hdunarodnogo-kinofestivalya-evrazijskij-most
DTSTART:20190920T063700Z
DTEND:20190924T083700Z
LOCATION:Ялта (Ялта)
SUMMARY:Проведение IV Ялтинского международного кинофестиваля «Евразийский 
 мост» 
URL:https://www.xn--h1aaafabldhkbrwa3l4c.xn--p1ai/meropriyatiya/kalendar-so
 bytij/event/415-provedenie-iv-yaltinskogo-mezhdunarodnogo-kinofestivalya-e
 vrazijskij-most
END:VEVENT
BEGIN:VEVENT
UID:20260423T191726MSK-8330bzzU4T@https://www.xn--h1aaafabldhkbrwa3l4c.xn--
 p1ai/
DTSTAMP:20260423T161726Z
DESCRIPTION:Ретроспектива фильмов с участием русского актера и режиссера В.
 В. Меньшова (1939) к 80-летию со дня рождения https://www.xn--h1aaafabldhk
 brwa3l4c.xn--p1ai/meropriyatiya/kalendar-sobytij/event/417-retrospektiva-f
 ilmov-s-uchastiem-russkogo-aktera-i-rezhissera-v-v-menshova-1939-k-80-leti
 yu-so-dnya-rozhdeniya
DTSTART:20190917T064600Z
DTEND:20190917T084600Z
LOCATION:Республика Крым (Крым)
SUMMARY:Ретроспектива фильмов с участием русского актера и режиссера В.В. М
 еньшова (1939) к 80-летию со дня рождения
URL:https://www.xn--h1aaafabldhkbrwa3l4c.xn--p1ai/meropriyatiya/kalendar-so
 bytij/event/417-retrospektiva-filmov-s-uchastiem-russkogo-aktera-i-rezhiss
 era-v-v-menshova-1939-k-80-letiyu-so-dnya-rozhdeniya
END:VEVENT
BEGIN:VEVENT
UID:20260423T191726MSK-8332dJWUnb@https://www.xn--h1aaafabldhkbrwa3l4c.xn--
 p1ai/
DTSTAMP:20260423T161726Z
DESCRIPTION:Ретроспектива фильмов с участием итальянской актрисы Софии Лоре
 н (1934) к 85-летию со дня рождения https://www.xn--h1aaafabldhkbrwa3l4c.x
 n--p1ai/meropriyatiya/kalendar-sobytij/event/419-retrospektiva-filmov-s-uc
 hastiem-italyanskoj-aktrisy-sofii-loren-1934-k-85-letiyu-so-dnya-rozhdeniy
 a
DTSTART:20190920T064900Z
DTEND:20190920T084900Z
LOCATION:Республика Крым (Крым)
SUMMARY:Ретроспектива фильмов с участием итальянской актрисы Софии Лорен (1
 934) к 85-летию со дня рождения
URL:https://www.xn--h1aaafabldhkbrwa3l4c.xn--p1ai/meropriyatiya/kalendar-so
 bytij/event/419-retrospektiva-filmov-s-uchastiem-italyanskoj-aktrisy-sofii
 -loren-1934-k-85-letiyu-so-dnya-rozhdeniya
END:VEVENT
END:VCALENDAR
