BEGIN:VCALENDAR
VERSION:2.0
PRODID:-//https://www.xn--h1aaafabldhkbrwa3l4c.xn--p1ai///NONSGML kigkonsult.se iCalcreator 2.10.15//
METHOD:PUBLISH
BEGIN:VEVENT
UID:20260423T220122MSK-021536gpuI@https://www.xn--h1aaafabldhkbrwa3l4c.xn--
 p1ai/
DTSTAMP:20260423T190122Z
DESCRIPTION: https://www.xn--h1aaafabldhkbrwa3l4c.xn--p1ai/meropriyatiya/ka
 lendar-sobytij/event/405-tematicheskaya-programma-k-vserossijskomu-dnyu-se
 mi-lyubvi-i-vernosti
DTSTART:20190702T055100Z
DTEND:20190708T075100Z
LOCATION:Республика Крым (Крым)
SUMMARY:Тематическая программа к Всероссийскому дню семьи\, любви и  вернос
 ти.
URL:https://www.xn--h1aaafabldhkbrwa3l4c.xn--p1ai/meropriyatiya/kalendar-so
 bytij/event/405-tematicheskaya-programma-k-vserossijskomu-dnyu-semi-lyubvi
 -i-vernosti
END:VEVENT
END:VCALENDAR
