BEGIN:VCALENDAR
VERSION:2.0
PRODID:-//https://www.xn--h1aaafabldhkbrwa3l4c.xn--p1ai///NONSGML kigkonsult.se iCalcreator 2.10.15//
METHOD:PUBLISH
BEGIN:VEVENT
UID:20260424T015000MSK-8244O4tOHB@https://www.xn--h1aaafabldhkbrwa3l4c.xn--
 p1ai/
DTSTAMP:20260423T225000Z
DESCRIPTION:Тематическая кинопрограмма фильмов-экранизаций к 210-летию со д
 ня рождения Н.В. Гоголя https://www.xn--h1aaafabldhkbrwa3l4c.xn--p1ai/mero
 priyatiya/kalendar-sobytij/event/381-tematicheskaya-kinoprogramma-filmov-e
 kranizatsij-k-210-letiyu-so-dnya-rozhdeniya-n-v-gogolya
DTSTART:20190401T074700Z
DTEND:20190410T094700Z
LOCATION:Республика Крым (Крым)
SUMMARY:Тематическая кинопрограмма фильмов-экранизаций к 210-летию со дня р
 ождения Н.В. Гоголя 
URL:https://www.xn--h1aaafabldhkbrwa3l4c.xn--p1ai/meropriyatiya/kalendar-so
 bytij/event/381-tematicheskaya-kinoprogramma-filmov-ekranizatsij-k-210-let
 iyu-so-dnya-rozhdeniya-n-v-gogolya
END:VEVENT
BEGIN:VEVENT
UID:20260424T015000MSK-8247Jjhr92@https://www.xn--h1aaafabldhkbrwa3l4c.xn--
 p1ai/
DTSTAMP:20260423T225000Z
DESCRIPTION:Мини-фестиваль анимационных фильмов (панорамный) к Дню российск
 ой анимации https://www.xn--h1aaafabldhkbrwa3l4c.xn--p1ai/meropriyatiya/ka
 lendar-sobytij/event/382-mini-festival-animatsionnykh-filmov-k-dnyu-rossij
 skoj-animatsii
DTSTART:20190408T075500Z
DTEND:20190412T095500Z
LOCATION:Республика Крым (Крым)
SUMMARY:Мини-фестиваль анимационных фильмов к Дню российской анимации
URL:https://www.xn--h1aaafabldhkbrwa3l4c.xn--p1ai/meropriyatiya/kalendar-so
 bytij/event/382-mini-festival-animatsionnykh-filmov-k-dnyu-rossijskoj-anim
 atsii
END:VEVENT
BEGIN:VEVENT
UID:20260424T015000MSK-8250s7H9hI@https://www.xn--h1aaafabldhkbrwa3l4c.xn--
 p1ai/
DTSTAMP:20260423T225000Z
DESCRIPTION:Мастер-класс ведущего методиста Анны Фоломеевой по созданию ани
 мационных проектов к Дню российской анимации в Крымском киномедиацентре. Н
 ачало занятия в 15.00 https://www.xn--h1aaafabldhkbrwa3l4c.xn--p1ai/meropr
 iyatiya/kalendar-sobytij/event/383-master-klass-vedushchego-metodista-anny
 -folomeevoj-po-sozdaniyu-animatsionnykh-proektov-k-dnyu-rossijskoj-animats
 ii
DTSTART:20190411T120000Z
DTEND:20190411T140000Z
LOCATION:ГБУ РК 'Крымский киномедиацентр' (г. Симферополь\, ул. Крылова\, 3
 7)
SUMMARY:Мастер-класс ведущего методиста Анны Фоломеевой по созданию анимаци
 онных проектов к Дню российской анимации
URL:https://www.xn--h1aaafabldhkbrwa3l4c.xn--p1ai/meropriyatiya/kalendar-so
 bytij/event/383-master-klass-vedushchego-metodista-anny-folomeevoj-po-sozd
 aniyu-animatsionnykh-proektov-k-dnyu-rossijskoj-animatsii
END:VEVENT
BEGIN:VEVENT
UID:20260424T015000MSK-82536ZL2v4@https://www.xn--h1aaafabldhkbrwa3l4c.xn--
 p1ai/
DTSTAMP:20260423T225000Z
DESCRIPTION:Тематическая кинопрограмма «Крымский фронт» к дням освобождения
  Крыма от фашистских захватчиков https://www.xn--h1aaafabldhkbrwa3l4c.xn--
 p1ai/meropriyatiya/kalendar-sobytij/event/384-tematicheskaya-kinoprogramma
 -krymskij-front-k-dnyam-osvobozhdeniya-kryma-ot-fashistskikh-zakhvatchikov
DTSTART:20190408T080700Z
DTEND:20190416T100700Z
LOCATION:Республика Крым (Крым)
SUMMARY:Тематическая кинопрограмма «Крымский фронт» к дням освобождения Кры
 ма от фашистских захватчиков
URL:https://www.xn--h1aaafabldhkbrwa3l4c.xn--p1ai/meropriyatiya/kalendar-so
 bytij/event/384-tematicheskaya-kinoprogramma-krymskij-front-k-dnyam-osvobo
 zhdeniya-kryma-ot-fashistskikh-zakhvatchikov
END:VEVENT
BEGIN:VEVENT
UID:20260424T015000MSK-8254JS1Olk@https://www.xn--h1aaafabldhkbrwa3l4c.xn--
 p1ai/
DTSTAMP:20260423T225000Z
DESCRIPTION:Тематическая кинопрограмма к Дню космонавтики https://www.xn--h
 1aaafabldhkbrwa3l4c.xn--p1ai/meropriyatiya/kalendar-sobytij/event/386-tema
 ticheskaya-kinoprogramma-k-dnyu-kosmonavtiki
DTSTART:20190411T081800Z
DTEND:20190414T101800Z
LOCATION:Республика Крым (Крым)
SUMMARY:Тематическая кинопрограмма к Дню космонавтики 
URL:https://www.xn--h1aaafabldhkbrwa3l4c.xn--p1ai/meropriyatiya/kalendar-so
 bytij/event/386-tematicheskaya-kinoprogramma-k-dnyu-kosmonavtiki
END:VEVENT
BEGIN:VEVENT
UID:20260424T015000MSK-8256DCPgcA@https://www.xn--h1aaafabldhkbrwa3l4c.xn--
 p1ai/
DTSTAMP:20260423T225000Z
DESCRIPTION:Крымский республиканский конкурс школьного документального кино
  «Моя родина – Крым»\, подведение итогов конкурса\, награждение победителе
 й https://www.xn--h1aaafabldhkbrwa3l4c.xn--p1ai/meropriyatiya/kalendar-sob
 ytij/event/388-krymskij-respublikanskij-konkurs-shkolnogo-dokumentalnogo-k
 ino-moya-rodina-krym
DTSTART:20190328T095700Z
DTEND:20190515T095700Z
LOCATION:Республика Крым (Крым)
SUMMARY:Крымский республиканский конкурс школьного документального кино «Мо
 я родина – Крым»
URL:https://www.xn--h1aaafabldhkbrwa3l4c.xn--p1ai/meropriyatiya/kalendar-so
 bytij/event/388-krymskij-respublikanskij-konkurs-shkolnogo-dokumentalnogo-
 kino-moya-rodina-krym
END:VEVENT
END:VCALENDAR
