BEGIN:VCALENDAR
VERSION:2.0
PRODID:-//https://www.xn--h1aaafabldhkbrwa3l4c.xn--p1ai///NONSGML kigkonsult.se iCalcreator 2.10.15//
METHOD:PUBLISH
BEGIN:VEVENT
UID:20260419T161434MSK-6503kgaAHp@https://www.xn--h1aaafabldhkbrwa3l4c.xn--
 p1ai/
DTSTAMP:20260419T131434Z
DESCRIPTION:Онлайн-лекция 'Читальный кинозал. Экранизации романов Эмиля Зол
 я'к 180-летию со дня рождения французского писатель Э.Золя&nbsp\; &nbsp\; 
 &nbsp\; &nbsp\; &nbsp\; &nbsp\; &nbsp\; &nbsp\; &nbsp\; &nbsp\;Начало в 15
 :00. Трансляция мероприятия на официальном ютуб-канале Крымского киномедиа
 центраhttps://www.youtube.com/channel/UCxleNuZYfyEUl6qJiKjMTvQ&nbsp\; &nbs
 p\; &nbsp\; &nbsp\; &nbsp\; &nbsp\; &nbsp\; &nbsp\; &nbsp\; &nbsp\;Проводи
 т: Богунова Дарья https://www.xn--h1aaafabldhkbrwa3l4c.xn--p1ai/meropriyat
 iya/kalendar-sobytij/event/508-onlajn-lektsiya-chitalnyj-kinozal-ekranizat
 sii-romanov-emilya-zolya
DTSTART:20200407T120000Z
DTEND:20200407T130000Z
LOCATION:ГБУ РК 'Крымский киномедиацентр' (г. Симферополь\, ул. Крылова\, 3
 7)
SUMMARY:Онлайн-лекция 'Читальный кинозал. Экранизации романов Эмиля Золя'
URL:https://www.xn--h1aaafabldhkbrwa3l4c.xn--p1ai/meropriyatiya/kalendar-so
 bytij/event/508-onlajn-lektsiya-chitalnyj-kinozal-ekranizatsii-romanov-emi
 lya-zolya
END:VEVENT
BEGIN:VEVENT
UID:20260419T161434MSK-6506Xjsnuu@https://www.xn--h1aaafabldhkbrwa3l4c.xn--
 p1ai/
DTSTAMP:20260419T131434Z
DESCRIPTION:Тематическая видео-зарисовка к 110-летию русского советского пи
 сателя\, драматурга\, киносценариста Юрия Германа&nbsp\; &nbsp\; &nbsp\; &
 nbsp\; &nbsp\; &nbsp\; &nbsp\; &nbsp\; &nbsp\; &nbsp\;Начало в 12:00. Виде
 о будет доступно на всех официальных страницах Крымского киномедиацентраht
 tps://www.youtube.com/channel/UCxleNuZYfyEUl6qJiKjMTvQ&nbsp\; &nbsp\; &nbs
 p\; &nbsp\; &nbsp\; &nbsp\; &nbsp\; &nbsp\; &nbsp\; &nbsp\;Проводит: Фолом
 еева Анна https://www.xn--h1aaafabldhkbrwa3l4c.xn--p1ai/meropriyatiya/kale
 ndar-sobytij/event/509-tematicheskaya-video-zarisovka-k-110-letiyu-russkog
 o-sovetskogo-pisatelya-dramaturga-kinostsenarista-yuriya-germana
DTSTART:20200407T090000Z
DTEND:20200407T100000Z
LOCATION:ГБУ РК 'Крымский киномедиацентр' (г. Симферополь\, ул. Крылова\, 3
 7)
SUMMARY:Тематическая видео-зарисовка к 110-летию русского советского писате
 ля\, драматурга\, киносценариста Юрия Германа
URL:https://www.xn--h1aaafabldhkbrwa3l4c.xn--p1ai/meropriyatiya/kalendar-so
 bytij/event/509-tematicheskaya-video-zarisovka-k-110-letiyu-russkogo-sovet
 skogo-pisatelya-dramaturga-kinostsenarista-yuriya-germana
END:VEVENT
BEGIN:VEVENT
UID:20260419T161434MSK-6509Zn9tcg@https://www.xn--h1aaafabldhkbrwa3l4c.xn--
 p1ai/
DTSTAMP:20260419T131434Z
DESCRIPTION:Тематическая кинопрограмма «Крымский фронт» к дням освобождения
  Крыма от немецко-фашистских захватчиков.&nbsp\; &nbsp\; &nbsp\; &nbsp\; &
 nbsp\; &nbsp\; &nbsp\; &nbsp\; &nbsp\; &nbsp\;Цикл видео-зарисовок на осно
 ве архивных материалов будет размещен и доступен для просмотра на&nbsp\;&n
 bsp\; &nbsp\; &nbsp\; &nbsp\; &nbsp\; &nbsp\; &nbsp\; &nbsp\; &nbsp\; &nbs
 p\;официальном сайте учреждения\, а также на всех официальных страницах в 
 социальных сетях.https://www.youtube.com/channel/UCxleNuZYfyEUl6qJiKjMTvQ&
 nbsp\; &nbsp\; &nbsp\; &nbsp\; &nbsp\; &nbsp\; &nbsp\; &nbsp\; &nbsp\; &nb
 sp\;Проводит: Фоломеева Анна https://www.xn--h1aaafabldhkbrwa3l4c.xn--p1ai
 /meropriyatiya/kalendar-sobytij/event/510-tematicheskaya-kinoprogramma-kry
 mskij-front-k-dnyam-osvobozhdeniya-kryma-ot-nemetsko-fashistskikh-zakhvatc
 hikov
DTSTART:20200408T090000Z
DTEND:20200416T100000Z
LOCATION:ГБУ РК 'Крымский киномедиацентр' (г. Симферополь\, ул. Крылова\, 3
 7)
SUMMARY:Тематическая кинопрограмма «Крымский фронт» к дням освобождения Кры
 ма от немецко-фашистских захватчиков.
URL:https://www.xn--h1aaafabldhkbrwa3l4c.xn--p1ai/meropriyatiya/kalendar-so
 bytij/event/510-tematicheskaya-kinoprogramma-krymskij-front-k-dnyam-osvobo
 zhdeniya-kryma-ot-nemetsko-fashistskikh-zakhvatchikov
END:VEVENT
BEGIN:VEVENT
UID:20260419T161434MSK-6512dkKUgo@https://www.xn--h1aaafabldhkbrwa3l4c.xn--
 p1ai/
DTSTAMP:20260419T131434Z
DESCRIPTION:Киномероприятие ко Дню российской анимации\n&nbsp\; Вас ждет:&n
 bsp\; &nbsp\; &nbsp\; - Онлайн-лекция 'Краткая история анимации'\,&nbsp\;н
 ачало в 12:00&nbsp\; &nbsp\; &nbsp\; - Мастер-класс по анимации 'Оживший ч
 еловечек из школьной тетради'&nbsp\; &nbsp\; &nbsp\; &nbsp\; &nbsp\; &nbsp
 \;в технике классической рисованной анимации\,&nbsp\;начало в 15:00&nbsp\;
  &nbsp\; &nbsp\; - Мульткроссворд&nbsp\; &nbsp\; &nbsp\; - ТОП 20 российск
 их мультфильмов для семейного просмотра&nbsp\; &nbsp\; &nbsp\; - И многое 
 другое&nbsp\; &nbsp\; &nbsp\; Начало в 12:00. Все материалы будут доступны
  на сайте учреждения\, а также на всех официальных страницах Крымского кин
 омедиацентраhttps://www.youtube.com/channel/UCxleNuZYfyEUl6qJiKjMTvQ&nbsp\
 ; &nbsp\; &nbsp\; &nbsp\; &nbsp\; &nbsp\; &nbsp\; &nbsp\; &nbsp\; &nbsp\; 
 &nbsp\;Проводит: Юревич Ксения https://www.xn--h1aaafabldhkbrwa3l4c.xn--p1
 ai/meropriyatiya/kalendar-sobytij/event/511-kinomeropriyatie-ko-dnyu-rossi
 jskoj-animatsii
DTSTART:20200408T090000Z
DTEND:20200408T140000Z
LOCATION:ГБУ РК 'Крымский киномедиацентр' (г. Симферополь\, ул. Крылова\, 3
 7)
SUMMARY:Киномероприятие ко Дню российской анимации
URL:https://www.xn--h1aaafabldhkbrwa3l4c.xn--p1ai/meropriyatiya/kalendar-so
 bytij/event/511-kinomeropriyatie-ko-dnyu-rossijskoj-animatsii
END:VEVENT
BEGIN:VEVENT
UID:20260419T161434MSK-6515idEE2Z@https://www.xn--h1aaafabldhkbrwa3l4c.xn--
 p1ai/
DTSTAMP:20260419T131434Z
DESCRIPTION:Онлайн мастер-класс по анимации 'Открытка ко Дню космонавтики'&
 nbsp\;в технике перекладкаНачало в 12:00. Видео будет доступно на всех офи
 циальных страницах Крымского киномедиацентраhttps://www.youtube.com/channe
 l/UCxleNuZYfyEUl6qJiKjMTvQ&nbsp\; &nbsp\; &nbsp\; &nbsp\; &nbsp\; &nbsp\; 
 &nbsp\; &nbsp\; &nbsp\; &nbsp\;Проводит: Юревич Ксения https://www.xn--h1a
 aafabldhkbrwa3l4c.xn--p1ai/meropriyatiya/kalendar-sobytij/event/512-onlajn
 -master-klass-po-animatsii-otkrytka-ko-dnyu-kosmonavtiki
DTSTART:20200412T092200Z
DTEND:20200412T110000Z
LOCATION:ГБУ РК 'Крымский киномедиацентр' (г. Симферополь\, ул. Крылова\, 3
 7)
SUMMARY:Онлайн мастер-класс по анимации 'Открытка ко Дню космонавтики'
URL:https://www.xn--h1aaafabldhkbrwa3l4c.xn--p1ai/meropriyatiya/kalendar-so
 bytij/event/512-onlajn-master-klass-po-animatsii-otkrytka-ko-dnyu-kosmonav
 tiki
END:VEVENT
BEGIN:VEVENT
UID:20260419T161434MSK-6517l1HxiI@https://www.xn--h1aaafabldhkbrwa3l4c.xn--
 p1ai/
DTSTAMP:20260419T131434Z
DESCRIPTION:Онлайн-лекция 'Кинематограф как важная система репрезентации ко
 смоса'&nbsp\;приуроченный к Международному дню авиации и космонавтики.Нача
 ло в 15:00.&nbsp\;Трансляция мероприятия на официальном ютуб-канале Крымск
 ого киномедиацентраhttps://www.youtube.com/channel/UCxleNuZYfyEUl6qJiKjMTv
 QПроводит: Богунова Дарья https://www.xn--h1aaafabldhkbrwa3l4c.xn--p1ai/me
 ropriyatiya/kalendar-sobytij/event/513-onlajn-lektsiya-kinematograf-kak-va
 zhnaya-sistema-reprezentatsii-kosmosa
DTSTART:20200412T120000Z
DTEND:20200412T130000Z
LOCATION:ГБУ РК 'Крымский киномедиацентр' (г. Симферополь\, ул. Крылова\, 3
 7)
SUMMARY:Онлайн-лекция 'Кинематограф как важная система репрезентации космос
 а'
URL:https://www.xn--h1aaafabldhkbrwa3l4c.xn--p1ai/meropriyatiya/kalendar-so
 bytij/event/513-onlajn-lektsiya-kinematograf-kak-vazhnaya-sistema-reprezen
 tatsii-kosmosa
END:VEVENT
END:VCALENDAR
