BEGIN:VCALENDAR
VERSION:2.0
PRODID:-//https://www.xn--h1aaafabldhkbrwa3l4c.xn--p1ai///NONSGML kigkonsult.se iCalcreator 2.10.15//
METHOD:PUBLISH
BEGIN:VEVENT
UID:20260419T174736MSK-2664tzaV4V@https://www.xn--h1aaafabldhkbrwa3l4c.xn--
 p1ai/
DTSTAMP:20260419T144736Z
DESCRIPTION:Онлайн-лекция 'История становления и развития комедийного жанра
  в кино'\,приуроченный к Международному Дню смеха.&nbsp\; &nbsp\; &nbsp\; 
 &nbsp\; &nbsp\; &nbsp\; &nbsp\; &nbsp\; &nbsp\; &nbsp\;Начало в 15:00. Тра
 нсляция мероприятия на официальном канале Крымского киномедиацентраhttps:/
 /www.youtube.com/channel/UCxleNuZYfyEUl6qJiKjMTvQ&nbsp\; &nbsp\; &nbsp\; &
 nbsp\; &nbsp\; &nbsp\; &nbsp\; &nbsp\; &nbsp\; &nbsp\;Проводит: Богунова Д
 арья https://www.xn--h1aaafabldhkbrwa3l4c.xn--p1ai/meropriyatiya/kalendar-
 sobytij/event/505-onlajn-lektsiya-istoriya-stanovleniya-i-razvitiya-komedi
 jnogo-zhanra-v-kino
DTSTART:20200401T120000Z
DTEND:20200401T130000Z
LOCATION:ГБУ РК 'Крымский киномедиацентр' (г. Симферополь\, ул. Крылова\, 3
 7)
SUMMARY:Онлайн-лекция 'История становления и развития комедийного жанра в к
 ино'
URL:https://www.xn--h1aaafabldhkbrwa3l4c.xn--p1ai/meropriyatiya/kalendar-so
 bytij/event/505-onlajn-lektsiya-istoriya-stanovleniya-i-razvitiya-komedijn
 ogo-zhanra-v-kino
END:VEVENT
BEGIN:VEVENT
UID:20260419T174736MSK-2667klkuSN@https://www.xn--h1aaafabldhkbrwa3l4c.xn--
 p1ai/
DTSTAMP:20260419T144736Z
DESCRIPTION:Онлайн мастер-класс по анимации 'Живая книга'\,приуроченный к М
 еждународному Дню детской книги.&nbsp\; &nbsp\; &nbsp\; &nbsp\; &nbsp\; &n
 bsp\; &nbsp\; &nbsp\; &nbsp\; &nbsp\;Начало в 12:00. Видео будет доступно 
 на всех официальных страницах Крымского киномедиацентраhttps://www.youtube
 .com/channel/UCxleNuZYfyEUl6qJiKjMTvQ&nbsp\; &nbsp\; &nbsp\; &nbsp\; &nbsp
 \; &nbsp\; &nbsp\; &nbsp\; &nbsp\; &nbsp\;Проводит: Юревич Ксения https://
 www.xn--h1aaafabldhkbrwa3l4c.xn--p1ai/meropriyatiya/kalendar-sobytij/event
 /506-onlajn-master-klass-po-animatsii-zhivaya-kniga
DTSTART:20200402T100000Z
DTEND:20200402T110000Z
LOCATION:ГБУ РК 'Крымский киномедиацентр' (г. Симферополь\, ул. Крылова\, 3
 7)
SUMMARY:Онлайн мастер-класс по анимации 'Живая книга'
URL:https://www.xn--h1aaafabldhkbrwa3l4c.xn--p1ai/meropriyatiya/kalendar-so
 bytij/event/506-onlajn-master-klass-po-animatsii-zhivaya-kniga
END:VEVENT
BEGIN:VEVENT
UID:20260419T174736MSK-2669A6DImK@https://www.xn--h1aaafabldhkbrwa3l4c.xn--
 p1ai/
DTSTAMP:20260419T144736Z
DESCRIPTION:Онлайн-лекция 'Читальный кинозал. Экранизации сказок Андерсена'
 к 215-летию со дня рождения выдающегося датского писателя и поэта&nbsp\; Х
 .К.АндерсенаНачало в 15:00. Трансляция мероприятия на официальном ютуб-кан
 але Крымского киномедиацентраhttps://www.youtube.com/channel/UCxleNuZYfyEU
 l6qJiKjMTvQПроводит: Богунова Дарья https://www.xn--h1aaafabldhkbrwa3l4c.x
 n--p1ai/meropriyatiya/kalendar-sobytij/event/507-onlajn-lektsiya-chitalnyj
 -kinozal-ekranizatsii-skazok-andersena
DTSTART:20200402T130000Z
DTEND:20200402T140000Z
LOCATION:ГБУ РК 'Крымский киномедиацентр' (г. Симферополь\, ул. Крылова\, 3
 7)
SUMMARY:Онлайн-лекция 'Читальный кинозал. Экранизации сказок Андерсена'
URL:https://www.xn--h1aaafabldhkbrwa3l4c.xn--p1ai/meropriyatiya/kalendar-so
 bytij/event/507-onlajn-lektsiya-chitalnyj-kinozal-ekranizatsii-skazok-ande
 rsena
END:VEVENT
END:VCALENDAR
