BEGIN:VCALENDAR
VERSION:2.0
PRODID:-//https://www.xn--h1aaafabldhkbrwa3l4c.xn--p1ai///NONSGML kigkonsult.se iCalcreator 2.10.15//
METHOD:PUBLISH
BEGIN:VEVENT
UID:20260419T191043MSK-7501uGaa1G@https://www.xn--h1aaafabldhkbrwa3l4c.xn--
 p1ai/
DTSTAMP:20260419T161043Z
DESCRIPTION: https://www.xn--h1aaafabldhkbrwa3l4c.xn--p1ai/meropriyatiya/ka
 lendar-sobytij/event/500-seminar-trening-prakticheskoe-kino-i-mediaobrazov
 anie-rabota-s-filmom-v-kinoklube-osnovy-audiovizualnoj-kultury
DTSTART:20200325T113000Z
DTEND:20200325T133000Z
LOCATION:ГБУ РК 'Крымский киномедиацентр' (г. Симферополь\, ул. Крылова\, 3
 7)
SUMMARY:Семинар-тренинг «Практическое кино- и медиаобразование. Работа с фи
 льмом в киноклубе. Основы аудиовизуальной культуры».
URL:https://www.xn--h1aaafabldhkbrwa3l4c.xn--p1ai/meropriyatiya/kalendar-so
 bytij/event/500-seminar-trening-prakticheskoe-kino-i-mediaobrazovanie-rabo
 ta-s-filmom-v-kinoklube-osnovy-audiovizualnoj-kultury
END:VEVENT
BEGIN:VEVENT
UID:20260419T191043MSK-75041alBxp@https://www.xn--h1aaafabldhkbrwa3l4c.xn--
 p1ai/
DTSTAMP:20260419T161043Z
DESCRIPTION:Республиканский День детского кино к Дню детского чтения (показ
 ы детских фильмов-экранизаций в рамках Недели детской и юношеской книги). 
 Совместное мероприятие с КРДБ им. В. Орлова.\nСотрудники учреждения подгот
 овят и разошлют в библиотеки Республики Крым фильмы-экранизации для провед
 ения мероприятия. https://www.xn--h1aaafabldhkbrwa3l4c.xn--p1ai/meropriyat
 iya/kalendar-sobytij/event/501-respublikanskij-den-detskogo-kino-k-dnyu-de
 tskogo-chteniya
DTSTART;VALUE=DATE:20200327
LOCATION:Республика Крым (Крым)
SUMMARY:Республиканский День детского кино к Дню детского чтения
URL:https://www.xn--h1aaafabldhkbrwa3l4c.xn--p1ai/meropriyatiya/kalendar-so
 bytij/event/501-respublikanskij-den-detskogo-kino-k-dnyu-detskogo-chteniya
END:VEVENT
BEGIN:VEVENT
UID:20260419T191043MSK-7506dgKkun@https://www.xn--h1aaafabldhkbrwa3l4c.xn--
 p1ai/
DTSTAMP:20260419T161043Z
DESCRIPTION: https://www.xn--h1aaafabldhkbrwa3l4c.xn--p1ai/meropriyatiya/ka
 lendar-sobytij/event/502-kinolektorij-kinematograf-khkh-veka-udivitelnoe-k
 ino-akiry-kurosavy
DTSTART:20200324T150000Z
DTEND:20200324T170000Z
LOCATION:ГБУ РК 'Крымский киномедиацентр' (г. Симферополь\, ул. Крылова\, 3
 7)
SUMMARY:Кинолекторий «Кинематограф ХХ века. Удивительное кино Акиры Куросав
 ы»
URL:https://www.xn--h1aaafabldhkbrwa3l4c.xn--p1ai/meropriyatiya/kalendar-so
 bytij/event/502-kinolektorij-kinematograf-khkh-veka-udivitelnoe-kino-akiry
 -kurosavy
END:VEVENT
END:VCALENDAR
