BEGIN:VCALENDAR
VERSION:2.0
PRODID:-//https://www.xn--h1aaafabldhkbrwa3l4c.xn--p1ai///NONSGML kigkonsult.se iCalcreator 2.10.15//
METHOD:PUBLISH
BEGIN:VEVENT
UID:20260419T193126MSK-6354tPWBfI@https://www.xn--h1aaafabldhkbrwa3l4c.xn--
 p1ai/
DTSTAMP:20260419T163126Z
DESCRIPTION: https://www.xn--h1aaafabldhkbrwa3l4c.xn--p1ai/meropriyatiya/ka
 lendar-sobytij/event/499-seminar-trening-prakticheskoe-kino-i-mediaobrazov
 anie-rabota-s-filmom-v-kinoklube-dlya-pedagogov-goroda-yalty
DTSTART:20200320T113000Z
DTEND:20200320T133000Z
LOCATION:МБОУ «Ялтинская средняя школа № 12 с углубленным изучением иностра
 нных языков»  (ул. Гоголя\, 8/1\, Ялта)
SUMMARY:Семинар-тренинг «Практическое кино- и медиаобразование. Работа с фи
 льмом в киноклубе» для педагогов города Ялты
URL:https://www.xn--h1aaafabldhkbrwa3l4c.xn--p1ai/meropriyatiya/kalendar-so
 bytij/event/499-seminar-trening-prakticheskoe-kino-i-mediaobrazovanie-rabo
 ta-s-filmom-v-kinoklube-dlya-pedagogov-goroda-yalty
END:VEVENT
END:VCALENDAR
