BEGIN:VCALENDAR
VERSION:2.0
PRODID:-//https://www.xn--h1aaafabldhkbrwa3l4c.xn--p1ai///NONSGML kigkonsult.se iCalcreator 2.10.15//
METHOD:PUBLISH
BEGIN:VEVENT
UID:20260419T193134MSK-1444RWkoHR@https://www.xn--h1aaafabldhkbrwa3l4c.xn--
 p1ai/
DTSTAMP:20260419T163134Z
DESCRIPTION:Тематическая кинопрограмма к 8 марта «Славим женщину!»\nСотрудн
 ики учреждения подготовят и разошлют программу игровых и документальных фи
 льмов для демонстрации в учреждениях культуры и образовательных организаци
 ях (киноклубах) Республики Крым. https://www.xn--h1aaafabldhkbrwa3l4c.xn--
 p1ai/meropriyatiya/kalendar-sobytij/event/495-tematicheskaya-kinoprogramma
 -k-8-marta-slavim-zhenshchinu
DTSTART:20200305T091400Z
DTEND:20200309T111400Z
LOCATION:Республика Крым (Крым)
SUMMARY:Тематическая кинопрограмма к 8 марта «Славим женщину!»
URL:https://www.xn--h1aaafabldhkbrwa3l4c.xn--p1ai/meropriyatiya/kalendar-so
 bytij/event/495-tematicheskaya-kinoprogramma-k-8-marta-slavim-zhenshchinu
END:VEVENT
BEGIN:VEVENT
UID:20260419T193134MSK-1448vzpLm3@https://www.xn--h1aaafabldhkbrwa3l4c.xn--
 p1ai/
DTSTAMP:20260419T163134Z
DESCRIPTION: https://www.xn--h1aaafabldhkbrwa3l4c.xn--p1ai/meropriyatiya/ka
 lendar-sobytij/event/496-kinogostinaya-s-retrospektivnym-pokazom-k-yubiley
 u-aktrisy-narodnoj-artistki-rsfsr-larisy-golubkinoj-9-marta
DTSTART:20200310T113000Z
DTEND:20200310T133000Z
LOCATION:ГБУ РК 'Крымский киномедиацентр' (г. Симферополь\, ул. Крылова\, 3
 7)
SUMMARY:Киногостиная с ретроспективным показом к юбилею актрисы\, народной 
 артистки РСФСР Ларисы Голубкиной (9 марта)
URL:https://www.xn--h1aaafabldhkbrwa3l4c.xn--p1ai/meropriyatiya/kalendar-so
 bytij/event/496-kinogostinaya-s-retrospektivnym-pokazom-k-yubileyu-aktrisy
 -narodnoj-artistki-rsfsr-larisy-golubkinoj-9-marta
END:VEVENT
BEGIN:VEVENT
UID:20260419T193134MSK-1450ULvrl0@https://www.xn--h1aaafabldhkbrwa3l4c.xn--
 p1ai/
DTSTAMP:20260419T163134Z
DESCRIPTION: https://www.xn--h1aaafabldhkbrwa3l4c.xn--p1ai/meropriyatiya/ka
 lendar-sobytij/event/497-kinogostinaya-s-retrospektivnym-pokazom-k-yubiley
 u-aktrisy-narodnoj-artistki-rsfsr-larisy-golubkinoj-9-marta
DTSTART:20200310T113000Z
DTEND:20200310T133000Z
LOCATION:Ялтинская киностудия (ул. Севастопольская\, 4\, Ялта)
SUMMARY:Киногостиная с ретроспективным показом к юбилею актрисы\, народной 
 артистки РСФСР Ларисы Голубкиной (9 марта)
URL:https://www.xn--h1aaafabldhkbrwa3l4c.xn--p1ai/meropriyatiya/kalendar-so
 bytij/event/497-kinogostinaya-s-retrospektivnym-pokazom-k-yubileyu-aktrisy
 -narodnoj-artistki-rsfsr-larisy-golubkinoj-9-marta
END:VEVENT
BEGIN:VEVENT
UID:20260419T193134MSK-1452jA500m@https://www.xn--h1aaafabldhkbrwa3l4c.xn--
 p1ai/
DTSTAMP:20260419T163134Z
DESCRIPTION: https://www.xn--h1aaafabldhkbrwa3l4c.xn--p1ai/meropriyatiya/ka
 lendar-sobytij/event/498-organizatsiya-i-provedenie-v-respublike-krym-poka
 zov-kinoprogramm-vserossijskoj-aktsii-otkrytaya-premera-v-ramkakh-25-go-ot
 krytogo-rossijskogo-festivalya-animatsionnogo-kino
DTSTART:20200311T092700Z
DTEND:20200315T112700Z
LOCATION:ГБУ РК 'Крымский киномедиацентр' (г. Симферополь\, ул. Крылова\, 3
 7)
SUMMARY:Организация и проведение в Республике Крым показов кинопрограмм Все
 российской акции «Открытая премьера» в рамках 25-го Открытого российского 
 фестиваля анимационного кино
URL:https://www.xn--h1aaafabldhkbrwa3l4c.xn--p1ai/meropriyatiya/kalendar-so
 bytij/event/498-organizatsiya-i-provedenie-v-respublike-krym-pokazov-kinop
 rogramm-vserossijskoj-aktsii-otkrytaya-premera-v-ramkakh-25-go-otkrytogo-r
 ossijskogo-festivalya-animatsionnogo-kino
END:VEVENT
END:VCALENDAR
