BEGIN:VCALENDAR
VERSION:2.0
PRODID:-//https://www.xn--h1aaafabldhkbrwa3l4c.xn--p1ai///NONSGML kigkonsult.se iCalcreator 2.10.15//
METHOD:PUBLISH
BEGIN:VEVENT
UID:20260424T052652MSK-8813GB84aD@https://www.xn--h1aaafabldhkbrwa3l4c.xn--
 p1ai/
DTSTAMP:20260424T022652Z
DESCRIPTION:Ретрокиноклуб «Советская и зарубежная киноклассика» https://www
 .xn--h1aaafabldhkbrwa3l4c.xn--p1ai/meropriyatiya/kalendar-sobytij/event/35
 1-retrokinoklub-sovetskaya-i-zarubezhnaya-kinoklassika
DTSTART:20190124T102400Z
DTEND:20190124T122400Z
LOCATION:ГБУ РК 'Крымский киномедиацентр' (г. Симферополь\, ул. Крылова\, 3
 7)
SUMMARY:Ретрокиноклуб «Советская и зарубежная киноклассика»
URL:https://www.xn--h1aaafabldhkbrwa3l4c.xn--p1ai/meropriyatiya/kalendar-so
 bytij/event/351-retrokinoklub-sovetskaya-i-zarubezhnaya-kinoklassika
END:VEVENT
BEGIN:VEVENT
UID:20260424T052652MSK-88158wRBtE@https://www.xn--h1aaafabldhkbrwa3l4c.xn--
 p1ai/
DTSTAMP:20260424T022652Z
DESCRIPTION:Тематическая программа фильмов о молодежи и студентах в День ро
 ссийского студенчества https://www.xn--h1aaafabldhkbrwa3l4c.xn--p1ai/merop
 riyatiya/kalendar-sobytij/event/360-tematicheskaya-programma-k-dnyu-rossij
 skogo-studenchestva
DTSTART:20190123T104700Z
DTEND:20190126T124700Z
LOCATION:Республика Крым (Крым)
SUMMARY:Тематическая программа к Дню российского студенчества 
URL:https://www.xn--h1aaafabldhkbrwa3l4c.xn--p1ai/meropriyatiya/kalendar-so
 bytij/event/360-tematicheskaya-programma-k-dnyu-rossijskogo-studenchestva
END:VEVENT
BEGIN:VEVENT
UID:20260424T052652MSK-8816MMNORe@https://www.xn--h1aaafabldhkbrwa3l4c.xn--
 p1ai/
DTSTAMP:20260424T022652Z
DESCRIPTION:Кинопраздник «Малахитовая шкатулка волшебных сказов Павла Бажов
 а» (к 140-летию со дня рождения писателя\, 27.01). https://www.xn--h1aaafa
 bldhkbrwa3l4c.xn--p1ai/meropriyatiya/kalendar-sobytij/event/361-kinoprazdn
 ik-malakhitovaya-shkatulka-volshebnykh-skazov-pavla-bazhova
DTSTART:20190124T105800Z
DTEND:20190127T125800Z
LOCATION:Республика Крым (Крым)
SUMMARY:Кинопраздник «Малахитовая шкатулка волшебных сказов Павла Бажова» 
URL:https://www.xn--h1aaafabldhkbrwa3l4c.xn--p1ai/meropriyatiya/kalendar-so
 bytij/event/361-kinoprazdnik-malakhitovaya-shkatulka-volshebnykh-skazov-pa
 vla-bazhova
END:VEVENT
BEGIN:VEVENT
UID:20260424T052652MSK-88187oxXV8@https://www.xn--h1aaafabldhkbrwa3l4c.xn--
 p1ai/
DTSTAMP:20260424T022652Z
DESCRIPTION:Кинопраздник «Малахитовая шкатулка волшебных сказов Павла Бажов
 а» (к 140-летию со дня рождения писателя\, 27.01).\nИгровая-познавательная
  программа в Крымском киномедиацентре с показом фильмов и анимации по сказ
 кам П. Бажова\, с викторинами и инсценировками. https://www.xn--h1aaafabld
 hkbrwa3l4c.xn--p1ai/meropriyatiya/kalendar-sobytij/event/362-kinoprazdnik-
 malakhitovaya-shkatulka-volshebnykh-skazov-pavla-bazhova
DTSTART:20190124T110100Z
DTEND:20190124T130100Z
LOCATION:ГБУ РК 'Крымский киномедиацентр' (г. Симферополь\, ул. Крылова\, 3
 7)
SUMMARY:Кинопраздник «Малахитовая шкатулка волшебных сказов Павла Бажова» 
URL:https://www.xn--h1aaafabldhkbrwa3l4c.xn--p1ai/meropriyatiya/kalendar-so
 bytij/event/362-kinoprazdnik-malakhitovaya-shkatulka-volshebnykh-skazov-pa
 vla-bazhova
END:VEVENT
BEGIN:VEVENT
UID:20260424T052652MSK-8820Zj2OWB@https://www.xn--h1aaafabldhkbrwa3l4c.xn--
 p1ai/
DTSTAMP:20260424T022652Z
DESCRIPTION:Мастер-класс по анимации в рамках киномероприятия&nbsp\;«Малахи
 товая шкатулка волшебных сказов Павла Бажова» (к 140-летию со дня рождения
  писателя\, 27.01). https://www.xn--h1aaafabldhkbrwa3l4c.xn--p1ai/meropriy
 atiya/kalendar-sobytij/event/363-master-klass-po-animatsii
DTSTART:20190127T110300Z
DTEND:20190127T130300Z
LOCATION:ГБУ РК 'Крымский киномедиацентр' (г. Симферополь\, ул. Крылова\, 3
 7)
SUMMARY:Мастер-класс по анимации
URL:https://www.xn--h1aaafabldhkbrwa3l4c.xn--p1ai/meropriyatiya/kalendar-so
 bytij/event/363-master-klass-po-animatsii
END:VEVENT
BEGIN:VEVENT
UID:20260424T052652MSK-8822uuuMA3@https://www.xn--h1aaafabldhkbrwa3l4c.xn--
 p1ai/
DTSTAMP:20260424T022652Z
DESCRIPTION:Тематическая кинопрограмма к Международному дню памяти жертв Хо
 локоста https://www.xn--h1aaafabldhkbrwa3l4c.xn--p1ai/meropriyatiya/kalend
 ar-sobytij/event/365-tematicheskaya-kinoprogramma-k-mezhdunarodnomu-dnyu-p
 amyati-zhertv-kholokosta
DTSTART:20190126T110500Z
DTEND:20190128T130500Z
LOCATION:Республика Крым (Крым)
SUMMARY:Тематическая кинопрограмма к Международному дню памяти жертв Холоко
 ста 
URL:https://www.xn--h1aaafabldhkbrwa3l4c.xn--p1ai/meropriyatiya/kalendar-so
 bytij/event/365-tematicheskaya-kinoprogramma-k-mezhdunarodnomu-dnyu-pamyat
 i-zhertv-kholokosta
END:VEVENT
END:VCALENDAR
