BEGIN:VCALENDAR
VERSION:2.0
PRODID:-//https://www.xn--h1aaafabldhkbrwa3l4c.xn--p1ai///NONSGML kigkonsult.se iCalcreator 2.10.15//
METHOD:PUBLISH
BEGIN:VEVENT
UID:20260424T053650MSK-7166zAoZWA@https://www.xn--h1aaafabldhkbrwa3l4c.xn--
 p1ai/
DTSTAMP:20260424T023650Z
DESCRIPTION:Ретрокиноклуб «Советская и зарубежная киноклассика» https://www
 .xn--h1aaafabldhkbrwa3l4c.xn--p1ai/meropriyatiya/kalendar-sobytij/event/35
 3-retrokinoklub-sovetskaya-i-zarubezhnaya-kinoklassika
DTSTART:20190117T102900Z
DTEND:20190117T122900Z
LOCATION:ГБУ РК 'Крымский киномедиацентр' (г. Симферополь\, ул. Крылова\, 3
 7)
SUMMARY:Ретрокиноклуб «Советская и зарубежная киноклассика»
URL:https://www.xn--h1aaafabldhkbrwa3l4c.xn--p1ai/meropriyatiya/kalendar-so
 bytij/event/353-retrokinoklub-sovetskaya-i-zarubezhnaya-kinoklassika
END:VEVENT
BEGIN:VEVENT
UID:20260424T053650MSK-7168MVIK5k@https://www.xn--h1aaafabldhkbrwa3l4c.xn--
 p1ai/
DTSTAMP:20260424T023650Z
DESCRIPTION:Тематическая кинопрограмма «Мой Крым\, моя родная земля» к Дню 
 Республики Крым&nbsp\; https://www.xn--h1aaafabldhkbrwa3l4c.xn--p1ai/merop
 riyatiya/kalendar-sobytij/event/358-tematicheskaya-kinoprogramma-moj-krym-
 moya-rodnaya-zemlya
DTSTART:20190115T104200Z
DTEND:20190120T124200Z
LOCATION:Республика Крым (Крым)
SUMMARY:Тематическая кинопрограмма «Мой Крым\, моя родная земля» 
URL:https://www.xn--h1aaafabldhkbrwa3l4c.xn--p1ai/meropriyatiya/kalendar-so
 bytij/event/358-tematicheskaya-kinoprogramma-moj-krym-moya-rodnaya-zemlya
END:VEVENT
BEGIN:VEVENT
UID:20260424T053650MSK-7170lzR3kr@https://www.xn--h1aaafabldhkbrwa3l4c.xn--
 p1ai/
DTSTAMP:20260424T023650Z
DESCRIPTION:Семинар+мастер-класс для сотрудников учреждений культуры и педа
 гогов «Практическое кино- и медиаобразование. Школьная телестудия». Ведет 
 семинар Елена Куценко https://www.xn--h1aaafabldhkbrwa3l4c.xn--p1ai/meropr
 iyatiya/kalendar-sobytij/event/359-seminar-master-klass-prakticheskoe-kino
 -i-mediaobrazovanie-shkolnaya-telestudiya
DTSTART:20190119T070000Z
DTEND:20190119T100000Z
LOCATION:ГБУ РК 'Крымский киномедиацентр' (г. Симферополь\, ул. Крылова\, 3
 7)
SUMMARY:Семинар+мастер-класс «Практическое кино- и медиаобразование. Школьн
 ая телестудия»
URL:https://www.xn--h1aaafabldhkbrwa3l4c.xn--p1ai/meropriyatiya/kalendar-so
 bytij/event/359-seminar-master-klass-prakticheskoe-kino-i-mediaobrazovanie
 -shkolnaya-telestudiya
END:VEVENT
END:VCALENDAR
