BEGIN:VCALENDAR
VERSION:2.0
PRODID:-//https://www.xn--h1aaafabldhkbrwa3l4c.xn--p1ai///NONSGML kigkonsult.se iCalcreator 2.10.15//
METHOD:PUBLISH
BEGIN:VEVENT
UID:20260424T053650MSK-71542M4MmU@https://www.xn--h1aaafabldhkbrwa3l4c.xn--
 p1ai/
DTSTAMP:20260424T023650Z
DESCRIPTION:Ретрокиноклуб «Советская и зарубежная киноклассика» https://www
 .xn--h1aaafabldhkbrwa3l4c.xn--p1ai/meropriyatiya/kalendar-sobytij/event/35
 2-retrokinoklub-sovetskaya-i-zarubezhnaya-kinoklassika
DTSTART:20190110T102900Z
DTEND:20190110T122900Z
LOCATION:ГБУ РК 'Крымский киномедиацентр' (г. Симферополь\, ул. Крылова\, 3
 7)
SUMMARY:Ретрокиноклуб «Советская и зарубежная киноклассика»
URL:https://www.xn--h1aaafabldhkbrwa3l4c.xn--p1ai/meropriyatiya/kalendar-so
 bytij/event/352-retrokinoklub-sovetskaya-i-zarubezhnaya-kinoklassika
END:VEVENT
BEGIN:VEVENT
UID:20260424T053650MSK-7157UnAboo@https://www.xn--h1aaafabldhkbrwa3l4c.xn--
 p1ai/
DTSTAMP:20260424T023650Z
DESCRIPTION:Тематическая кинопрограмма «Новогодний и Рождественский киносер
 пантин». https://www.xn--h1aaafabldhkbrwa3l4c.xn--p1ai/meropriyatiya/kalen
 dar-sobytij/event/355-tematicheskaya-kinoprogramma-novogodnij-i-rozhdestve
 nskij-kinoserpantin
DTSTART:20190102T103400Z
DTEND:20190108T123400Z
LOCATION:Республика Крым (Крым)
SUMMARY:Тематическая кинопрограмма «Новогодний и Рождественский киносерпант
 ин»
URL:https://www.xn--h1aaafabldhkbrwa3l4c.xn--p1ai/meropriyatiya/kalendar-so
 bytij/event/355-tematicheskaya-kinoprogramma-novogodnij-i-rozhdestvenskij-
 kinoserpantin
END:VEVENT
BEGIN:VEVENT
UID:20260424T053650MSK-7158w3hzux@https://www.xn--h1aaafabldhkbrwa3l4c.xn--
 p1ai/
DTSTAMP:20260424T023650Z
DESCRIPTION:Игровая-познавательная программа «Праздник Рождественнской кино
 сказки» для детей в Крымском киномедиацентре. Показ фильмов на Рождественн
 скую тематику. Начало в 11.00. Ведет программу заместитель директора Елена
  Куценко. https://www.xn--h1aaafabldhkbrwa3l4c.xn--p1ai/meropriyatiya/kale
 ndar-sobytij/event/356-prazdnik-rozhdestvennskoj-kinoskazki
DTSTART:20190107T080000Z
DTEND:20190107T110000Z
LOCATION:ГБУ РК 'Крымский киномедиацентр' (г. Симферополь\, ул. Крылова\, 3
 7)
SUMMARY:Праздник Рождественнской киносказки
URL:https://www.xn--h1aaafabldhkbrwa3l4c.xn--p1ai/meropriyatiya/kalendar-so
 bytij/event/356-prazdnik-rozhdestvennskoj-kinoskazki
END:VEVENT
BEGIN:VEVENT
UID:20260424T053650MSK-7160MNZh2u@https://www.xn--h1aaafabldhkbrwa3l4c.xn--
 p1ai/
DTSTAMP:20260424T023650Z
DESCRIPTION:Тематическая кинопрограмма детских фильмов и анимации к Дню дет
 ского кино в России https://www.xn--h1aaafabldhkbrwa3l4c.xn--p1ai/meropriy
 atiya/kalendar-sobytij/event/357-tematicheskaya-kinoprogramma-k-dnyu-detsk
 ogo-kino-v-rossii
DTSTART:20190104T104000Z
DTEND:20190110T124000Z
LOCATION:Республика Крым (Крым)
SUMMARY:Тематическая кинопрограмма к Дню детского кино в России
URL:https://www.xn--h1aaafabldhkbrwa3l4c.xn--p1ai/meropriyatiya/kalendar-so
 bytij/event/357-tematicheskaya-kinoprogramma-k-dnyu-detskogo-kino-v-rossii
END:VEVENT
END:VCALENDAR
