BEGIN:VCALENDAR
VERSION:2.0
PRODID:-//https://www.xn--h1aaafabldhkbrwa3l4c.xn--p1ai///NONSGML kigkonsult.se iCalcreator 2.10.15//
METHOD:PUBLISH
BEGIN:VEVENT
UID:20260419T230902MSK-8514d9zRrp@https://www.xn--h1aaafabldhkbrwa3l4c.xn--
 p1ai/
DTSTAMP:20260419T200902Z
DESCRIPTION:Новогодняя и Рождественская программа фильмов.\nСотрудники учре
 ждения подготовят и разошлют программу фильмов для демонстрации в учрежден
 иях культуры и образовательных организациях (киноклубах) Республики Крым. 
 https://www.xn--h1aaafabldhkbrwa3l4c.xn--p1ai/meropriyatiya/kalendar-sobyt
 ij/event/479-novogodnyaya-i-rozhdestvenskaya-programma-filmov
DTSTART:20200101T090000Z
DTEND:20200108T110000Z
LOCATION:Республика Крым (Крым)
SUMMARY:Новогодняя и Рождественская программа фильмов.
URL:https://www.xn--h1aaafabldhkbrwa3l4c.xn--p1ai/meropriyatiya/kalendar-so
 bytij/event/479-novogodnyaya-i-rozhdestvenskaya-programma-filmov
END:VEVENT
BEGIN:VEVENT
UID:20260419T230902MSK-8518LCuZxv@https://www.xn--h1aaafabldhkbrwa3l4c.xn--
 p1ai/
DTSTAMP:20260419T200902Z
DESCRIPTION:Проведение семинара-тренинга «Практическое кино- и медиаобразов
 ание. Учимся работать с фильмами в киноклубе и в досуговой деятельности» д
 ля педагогов\, библиотекарей и методистов ЦКС. https://www.xn--h1aaafabldh
 kbrwa3l4c.xn--p1ai/meropriyatiya/kalendar-sobytij/event/481-seminar-trenin
 g-prakticheskoe-kino-i-mediaobrazovanie-uchimsya-rabotat-s-filmami-v-kinok
 lube-i-v-dosugovoj-deyatelnosti-dlya-pedagogov-bibliotekarej-i-metodistov-
 tsks
DTSTART:20200109T113000Z
DTEND:20200109T133000Z
LOCATION:МБОУ «Ялтинская средняя школа № 12 с углубленным изучением иностра
 нных языков»  (ул. Гоголя\, 8/1\, Ялта)
SUMMARY:Семинар-тренинг «Практическое кино- и медиаобразование. Учимся рабо
 тать с фильмами в киноклубе и в досуговой деятельности» для педагогов\, би
 блиотекарей и методистов ЦКС.
URL:https://www.xn--h1aaafabldhkbrwa3l4c.xn--p1ai/meropriyatiya/kalendar-so
 bytij/event/481-seminar-trening-prakticheskoe-kino-i-mediaobrazovanie-uchi
 msya-rabotat-s-filmami-v-kinoklube-i-v-dosugovoj-deyatelnosti-dlya-pedagog
 ov-bibliotekarej-i-metodistov-tsks
END:VEVENT
BEGIN:VEVENT
UID:20260419T230902MSK-8520vSkG4L@https://www.xn--h1aaafabldhkbrwa3l4c.xn--
 p1ai/
DTSTAMP:20260419T200902Z
DESCRIPTION:Проведение семинара-тренинга «Практическое кино- и медиаобразов
 ание. Учимся работать с фильмами в киноклубе и в досуговой деятельности» д
 ля педагогов\, библиотекарей и методистов ЦКС. https://www.xn--h1aaafabldh
 kbrwa3l4c.xn--p1ai/meropriyatiya/kalendar-sobytij/event/482-provedenie-sem
 inara-treninga-prakticheskoe-kino-i-mediaobrazovanie-uchimsya-rabotat-s-fi
 lmami-v-kinoklube-i-v-dosugovoj-deyatelnosti-dlya-pedagogov-bibliotekarej-
 i-metodistov-tsks
DTSTART:20200111T070000Z
DTEND:20200111T090000Z
LOCATION:ГБУ РК 'Крымский киномедиацентр' (г. Симферополь\, ул. Крылова\, 3
 7)
SUMMARY:Проведение семинара-тренинга «Практическое кино- и медиаобразование
 . Учимся работать с фильмами в киноклубе и в досуговой деятельности» для п
 едагогов\, библиотекарей и методистов ЦКС.
URL:https://www.xn--h1aaafabldhkbrwa3l4c.xn--p1ai/meropriyatiya/kalendar-so
 bytij/event/482-provedenie-seminara-treninga-prakticheskoe-kino-i-mediaobr
 azovanie-uchimsya-rabotat-s-filmami-v-kinoklube-i-v-dosugovoj-deyatelnosti
 -dlya-pedagogov-bibliotekarej-i-metodistov-tsks
END:VEVENT
BEGIN:VEVENT
UID:20260419T230902MSK-8523x0ENFR@https://www.xn--h1aaafabldhkbrwa3l4c.xn--
 p1ai/
DTSTAMP:20260419T200902Z
DESCRIPTION:Мастер-класс по кино- и медиаобразованию (школьное телевидение)
 \, проводит заместитель директора Куценко Е.В. начало в 10.00 https://www.
 xn--h1aaafabldhkbrwa3l4c.xn--p1ai/meropriyatiya/kalendar-sobytij/event/484
 -master-klass-po-kino-i-mediaobrazovaniyu-shkolnoe-televidenie
DTSTART:20200111T070000Z
DTEND:20200111T100000Z
LOCATION:ГБУ РК 'Крымский киномедиацентр' (г. Симферополь\, ул. Крылова\, 3
 7)
SUMMARY:Мастер-класс по кино- и медиаобразованию (школьное телевидение)
URL:https://www.xn--h1aaafabldhkbrwa3l4c.xn--p1ai/meropriyatiya/kalendar-so
 bytij/event/484-master-klass-po-kino-i-mediaobrazovaniyu-shkolnoe-televide
 nie
END:VEVENT
END:VCALENDAR
