BEGIN:VCALENDAR
VERSION:2.0
PRODID:-//https://www.xn--h1aaafabldhkbrwa3l4c.xn--p1ai///NONSGML kigkonsult.se iCalcreator 2.10.15//
METHOD:PUBLISH
BEGIN:VEVENT
UID:20260419T212658MSK-2237uvxIE7@https://www.xn--h1aaafabldhkbrwa3l4c.xn--
 p1ai/
DTSTAMP:20260419T182658Z
DESCRIPTION:Тематическая кинопрограмма ко Дню памяти о россиянах\, исполняв
 ших служебный долг за пределами Отечества (15 февраля)\nСотрудники учрежде
 ния подготовят и разошлют программу фильмов: игровых и документальных\, дл
 я демонстрации в учреждениях культуры и образовательных организациях (кино
 клубах) Республики Крым. https://www.xn--h1aaafabldhkbrwa3l4c.xn--p1ai/mer
 opriyatiya/kalendar-sobytij/event/489-tematicheskaya-kinoprogramma-ko-dnyu
 -pamyati-o-rossiyanakh-ispolnyavshikh-sluzhebnyj-dolg-za-predelami-oteches
 tva
DTSTART:20200214T063800Z
DTEND:20200215T063800Z
LOCATION:Республика Крым (Крым)
SUMMARY:Тематическая кинопрограмма ко Дню памяти о россиянах\, исполнявших 
 служебный долг за пределами Отечества
URL:https://www.xn--h1aaafabldhkbrwa3l4c.xn--p1ai/meropriyatiya/kalendar-so
 bytij/event/489-tematicheskaya-kinoprogramma-ko-dnyu-pamyati-o-rossiyanakh
 -ispolnyavshikh-sluzhebnyj-dolg-za-predelami-otechestva
END:VEVENT
END:VCALENDAR
