BEGIN:VCALENDAR
VERSION:2.0
PRODID:-//https://www.xn--h1aaafabldhkbrwa3l4c.xn--p1ai///NONSGML kigkonsult.se iCalcreator 2.10.15//
METHOD:PUBLISH
BEGIN:VEVENT
UID:20260419T231630MSK-5480hWNxpR@https://www.xn--h1aaafabldhkbrwa3l4c.xn--
 p1ai/
DTSTAMP:20260419T201630Z
DESCRIPTION:Киногостиная «Творческий вечер с показом фильмов с участием Нар
 одного артиста России Дмитрия Харатьяна»\, к юбилею со дня рождения. https
 ://www.xn--h1aaafabldhkbrwa3l4c.xn--p1ai/meropriyatiya/kalendar-sobytij/ev
 ent/476-kinogostinaya-tvorcheskij-vecher-s-pokazom-filmov-s-uchastiem-naro
 dnogo-artista-rossii-dmitriya-kharatyana
DTSTART:20200121T113000Z
DTEND:20200121T140000Z
LOCATION:ГБУ РК 'Крымский киномедиацентр' (г. Симферополь\, ул. Крылова\, 3
 7)
SUMMARY:Киногостиная «Творческий вечер с показом фильмов с участием Народно
 го артиста России Дмитрия Харатьяна»
URL:https://www.xn--h1aaafabldhkbrwa3l4c.xn--p1ai/meropriyatiya/kalendar-so
 bytij/event/476-kinogostinaya-tvorcheskij-vecher-s-pokazom-filmov-s-uchast
 iem-narodnogo-artista-rossii-dmitriya-kharatyana
END:VEVENT
END:VCALENDAR
