BEGIN:VCALENDAR
VERSION:2.0
PRODID:-//https://www.xn--h1aaafabldhkbrwa3l4c.xn--p1ai///NONSGML kigkonsult.se iCalcreator 2.10.15//
METHOD:PUBLISH
BEGIN:VEVENT
UID:20260421T112115MSK-6708zZJmU0@https://www.xn--h1aaafabldhkbrwa3l4c.xn--
 p1ai/
DTSTAMP:20260421T082115Z
DESCRIPTION: https://www.xn--h1aaafabldhkbrwa3l4c.xn--p1ai/meropriyatiya/ka
 lendar-sobytij/event/473-kinomeropriyatie-novogodnij-i-rozhdestvenskij-kin
 oserpantin
DTSTART:20191223T081500Z
DTEND:20191227T101500Z
LOCATION:Республика Крым (Крым)
SUMMARY:Киномероприятие «Новогодний и Рождественский киносерпантин»
URL:https://www.xn--h1aaafabldhkbrwa3l4c.xn--p1ai/meropriyatiya/kalendar-so
 bytij/event/473-kinomeropriyatie-novogodnij-i-rozhdestvenskij-kinoserpanti
 n
END:VEVENT
END:VCALENDAR
