BEGIN:VCALENDAR
VERSION:2.0
PRODID:-//https://www.xn--h1aaafabldhkbrwa3l4c.xn--p1ai///NONSGML kigkonsult.se iCalcreator 2.10.15//
METHOD:PUBLISH
BEGIN:VEVENT
UID:20260420T040810MSK-5031gu8N2C@https://www.xn--h1aaafabldhkbrwa3l4c.xn--
 p1ai/
DTSTAMP:20260420T010810Z
DESCRIPTION:Киномероприятие «День рождения Деда Мороза» https://www.xn--h1a
 aafabldhkbrwa3l4c.xn--p1ai/meropriyatiya/kalendar-sobytij/event/463-kinome
 ropriyatie-den-rozhdeniya-deda-moroza
DTSTART:20191217T113000Z
DTEND:20191217T133000Z
LOCATION:ГБУ РК 'Крымский киномедиацентр' (г. Симферополь\, ул. Крылова\, 3
 7)
SUMMARY:Киномероприятие «День рождения Деда Мороза»
URL:https://www.xn--h1aaafabldhkbrwa3l4c.xn--p1ai/meropriyatiya/kalendar-so
 bytij/event/463-kinomeropriyatie-den-rozhdeniya-deda-moroza
END:VEVENT
END:VCALENDAR
