BEGIN:VCALENDAR
VERSION:2.0
PRODID:-//https://www.xn--h1aaafabldhkbrwa3l4c.xn--p1ai///NONSGML kigkonsult.se iCalcreator 2.10.15//
METHOD:PUBLISH
BEGIN:VEVENT
UID:20260420T055755MSK-0977dT7uiV@https://www.xn--h1aaafabldhkbrwa3l4c.xn--
 p1ai/
DTSTAMP:20260420T025755Z
DESCRIPTION:Киномероприятие «Права человека в документальном кино» с просмо
 тром и обсуждением программы документальных фильмов в Крымском киномедиаце
 нтре https://www.xn--h1aaafabldhkbrwa3l4c.xn--p1ai/meropriyatiya/kalendar-
 sobytij/event/461-kinomeropriyatie-prava-cheloveka-v-dokumentalnom-kino-s-
 prosmotrom-i-obsuzhdeniem-programmy-dokumentalnykh-filmov-v-krymskom-kinom
 ediatsentre
DTSTART:20191209T113000Z
DTEND:20191209T133000Z
LOCATION:ГБУ РК 'Крымский киномедиацентр' (г. Симферополь\, ул. Крылова\, 3
 7)
SUMMARY:Киномероприятие «Права человека в документальном кино» с просмотром
  и обсуждением программы документальных фильмов в Крымском киномедиацентре
 
URL:https://www.xn--h1aaafabldhkbrwa3l4c.xn--p1ai/meropriyatiya/kalendar-so
 bytij/event/461-kinomeropriyatie-prava-cheloveka-v-dokumentalnom-kino-s-pr
 osmotrom-i-obsuzhdeniem-programmy-dokumentalnykh-filmov-v-krymskom-kinomed
 iatsentre
END:VEVENT
END:VCALENDAR
