BEGIN:VCALENDAR
VERSION:2.0
PRODID:-//https://www.xn--h1aaafabldhkbrwa3l4c.xn--p1ai///NONSGML kigkonsult.se iCalcreator 2.10.15//
METHOD:PUBLISH
BEGIN:VEVENT
UID:20260420T055719MSK-8551JzSUua@https://www.xn--h1aaafabldhkbrwa3l4c.xn--
 p1ai/
DTSTAMP:20260420T025719Z
DESCRIPTION:Тематическая программа фильмов правовой направленности к Междун
 ародному дню прав человека\nСотрудники учреждения подготовят и разошлют пр
 ограмму фильмов для демонстрации в учреждениях культуры и образовательных 
 организациях (киноклубах) Республики Крым. https://www.xn--h1aaafabldhkbrw
 a3l4c.xn--p1ai/meropriyatiya/kalendar-sobytij/event/460-tematicheskaya-pro
 gramma-filmov-pravovoj-napravlennosti-k-mezhdunarodnomu-dnyu-prav-chelovek
 a
DTSTART:20191207T073700Z
DTEND:20191211T093700Z
LOCATION:Республика Крым (Крым)
SUMMARY:Тематическая программа фильмов правовой направленности к Международ
 ному дню прав человека 
URL:https://www.xn--h1aaafabldhkbrwa3l4c.xn--p1ai/meropriyatiya/kalendar-so
 bytij/event/460-tematicheskaya-programma-filmov-pravovoj-napravlennosti-k-
 mezhdunarodnomu-dnyu-prav-cheloveka
END:VEVENT
END:VCALENDAR
