BEGIN:VCALENDAR
VERSION:2.0
PRODID:-//https://www.xn--h1aaafabldhkbrwa3l4c.xn--p1ai///NONSGML kigkonsult.se iCalcreator 2.10.15//
METHOD:PUBLISH
BEGIN:VEVENT
UID:20260423T180647MSK-5372u2T2J8@https://www.xn--h1aaafabldhkbrwa3l4c.xn--
 p1ai/
DTSTAMP:20260423T150647Z
DESCRIPTION: https://www.xn--h1aaafabldhkbrwa3l4c.xn--p1ai/meropriyatiya/ka
 lendar-sobytij/event/426-master-klass-po-sozdaniyu-videoproduktsii-metodis
 ta-krymskij-kinomediatsentr-folomeevoj-a-m
DTSTART:20191015T120000Z
DTEND:20191015T133000Z
LOCATION:Ялтинская киностудия (ул. Севастопольская\, 4\, Ялта)
SUMMARY:Мастер-класс по созданию видеопродукции методиста 'Крымский киномед
 иацентр' Фоломеевой А.М.
URL:https://www.xn--h1aaafabldhkbrwa3l4c.xn--p1ai/meropriyatiya/kalendar-so
 bytij/event/426-master-klass-po-sozdaniyu-videoproduktsii-metodista-krymsk
 ij-kinomediatsentr-folomeevoj-a-m
END:VEVENT
END:VCALENDAR
