BEGIN:VCALENDAR
VERSION:2.0
PRODID:-//https://www.xn--h1aaafabldhkbrwa3l4c.xn--p1ai///NONSGML kigkonsult.se iCalcreator 2.10.15//
METHOD:PUBLISH
BEGIN:VEVENT
UID:20260423T192317MSK-5756oZd5ut@https://www.xn--h1aaafabldhkbrwa3l4c.xn--
 p1ai/
DTSTAMP:20260423T162317Z
DESCRIPTION:Ретроспектива фильмов с участием итальянского киноактера Марчел
 ло Мастроянни (1924-1996) к 95-летию со дня рождения https://www.xn--h1aaa
 fabldhkbrwa3l4c.xn--p1ai/meropriyatiya/kalendar-sobytij/event/420-retrospe
 ktiva-filmov-s-uchastiem-italyanskogo-kinoaktera-marchello-mastroyanni-192
 4-1996-k-95-letiyu-so-dnya-rozhdeniya
DTSTART:20190828T065100Z
DTEND:20190828T085100Z
LOCATION:Республика Крым (Крым)
SUMMARY:Ретроспектива фильмов с участием итальянского киноактера Марчелло М
 астроянни (1924-1996) к 95-летию со дня рождения 
URL:https://www.xn--h1aaafabldhkbrwa3l4c.xn--p1ai/meropriyatiya/kalendar-so
 bytij/event/420-retrospektiva-filmov-s-uchastiem-italyanskogo-kinoaktera-m
 archello-mastroyanni-1924-1996-k-95-letiyu-so-dnya-rozhdeniya
END:VEVENT
END:VCALENDAR
