BEGIN:VCALENDAR
VERSION:2.0
PRODID:-//https://www.xn--h1aaafabldhkbrwa3l4c.xn--p1ai///NONSGML kigkonsult.se iCalcreator 2.10.15//
METHOD:PUBLISH
BEGIN:VEVENT
UID:20260423T192301MSK-2234GZvrGd@https://www.xn--h1aaafabldhkbrwa3l4c.xn--
 p1ai/
DTSTAMP:20260423T162301Z
DESCRIPTION:Ретроспектива фильмов с участием советского актера и режиссёра 
 А.П. Довженко (1894-1956) к 130-летию со дня рождения.\nСотрудники учрежде
 ния подготовят программу фильмов для демонстрации в учреждениях культуры Р
 еспублики Крым https://www.xn--h1aaafabldhkbrwa3l4c.xn--p1ai/meropriyatiya
 /kalendar-sobytij/event/416-retrospektiva-filmov-s-uchastiem-sovetskogo-ak
 tera-i-rezhissjora-a-p-dovzhenko-1894-1956-k-130-letiyu-so-dnya-rozhdeniya
DTSTART:20190911T064200Z
DTEND:20190911T084200Z
LOCATION:Республика Крым (Крым)
SUMMARY:Ретроспектива фильмов с участием советского актера и режиссёра А.П.
  Довженко (1894-1956) к 130-летию со дня рождения
URL:https://www.xn--h1aaafabldhkbrwa3l4c.xn--p1ai/meropriyatiya/kalendar-so
 bytij/event/416-retrospektiva-filmov-s-uchastiem-sovetskogo-aktera-i-rezhi
 ssjora-a-p-dovzhenko-1894-1956-k-130-letiyu-so-dnya-rozhdeniya
END:VEVENT
END:VCALENDAR
