BEGIN:VCALENDAR
VERSION:2.0
PRODID:-//https://www.xn--h1aaafabldhkbrwa3l4c.xn--p1ai///NONSGML kigkonsult.se iCalcreator 2.10.15//
METHOD:PUBLISH
BEGIN:VEVENT
UID:20260423T205505MSK-2004kctRwA@https://www.xn--h1aaafabldhkbrwa3l4c.xn--
 p1ai/
DTSTAMP:20260423T175505Z
DESCRIPTION: https://www.xn--h1aaafabldhkbrwa3l4c.xn--p1ai/meropriyatiya/ka
 lendar-sobytij/event/407-tematicheskaya-kinoprogramma-ko-dnyu-voenno-morsk
 ogo-flota
DTSTART:20190723T055400Z
DTEND:20190730T075400Z
LOCATION:Республика Крым (Крым)
SUMMARY:Тематическая кинопрограмма ко Дню Военно-Морского Флота
URL:https://www.xn--h1aaafabldhkbrwa3l4c.xn--p1ai/meropriyatiya/kalendar-so
 bytij/event/407-tematicheskaya-kinoprogramma-ko-dnyu-voenno-morskogo-flota
END:VEVENT
END:VCALENDAR
