BEGIN:VCALENDAR
VERSION:2.0
PRODID:-//https://www.xn--h1aaafabldhkbrwa3l4c.xn--p1ai///NONSGML kigkonsult.se iCalcreator 2.10.15//
METHOD:PUBLISH
BEGIN:VEVENT
UID:20260423T232125MSK-71498rvDC3@https://www.xn--h1aaafabldhkbrwa3l4c.xn--
 p1ai/
DTSTAMP:20260423T202125Z
DESCRIPTION: https://www.xn--h1aaafabldhkbrwa3l4c.xn--p1ai/meropriyatiya/ka
 lendar-sobytij/event/403-organizatsiya-tematicheskikh-kinopokazov-nikto-ne
 -zabyt-nichto-ne-zabyto-v-klubnykh-uchrezhdeniyakh-i-na-ozdorovitelnykh-pl
 oshchadkakh-respubliki-krym-k-dnyu-pamyati-i-skorbi-dnyu-nachala-velikoj-o
 techestvennoj-vojny
DTSTART:20190619T080300Z
DTEND:20190623T100300Z
LOCATION:Республика Крым (Крым)
SUMMARY:Организация тематических кинопоказов «Никто не забыт\, ничто не заб
 ыто» в клубных учреждениях и на оздоровительных площадках Республики Крым 
 к Дню памяти и скорби – Дню начала Великой Отечественной войны
URL:https://www.xn--h1aaafabldhkbrwa3l4c.xn--p1ai/meropriyatiya/kalendar-so
 bytij/event/403-organizatsiya-tematicheskikh-kinopokazov-nikto-ne-zabyt-ni
 chto-ne-zabyto-v-klubnykh-uchrezhdeniyakh-i-na-ozdorovitelnykh-ploshchadka
 kh-respubliki-krym-k-dnyu-pamyati-i-skorbi-dnyu-nachala-velikoj-otechestve
 nnoj-vojny
END:VEVENT
END:VCALENDAR
