BEGIN:VCALENDAR
VERSION:2.0
PRODID:-//https://www.xn--h1aaafabldhkbrwa3l4c.xn--p1ai///NONSGML kigkonsult.se iCalcreator 2.10.15//
METHOD:PUBLISH
BEGIN:VEVENT
UID:20260424T003230MSK-2493Z4uZ9U@https://www.xn--h1aaafabldhkbrwa3l4c.xn--
 p1ai/
DTSTAMP:20260423T213230Z
DESCRIPTION:Тематическая кинопрограмма к Международному дню семьи https://w
 ww.xn--h1aaafabldhkbrwa3l4c.xn--p1ai/meropriyatiya/kalendar-sobytij/event/
 393-tematicheskaya-kinoprogramma-k-mezhdunarodnomu-dnyu-semi
DTSTART:20190515T071700Z
DTEND:20190517T091700Z
LOCATION:Республика Крым (Крым)
SUMMARY:Тематическая кинопрограмма к Международному дню семьи
URL:https://www.xn--h1aaafabldhkbrwa3l4c.xn--p1ai/meropriyatiya/kalendar-so
 bytij/event/393-tematicheskaya-kinoprogramma-k-mezhdunarodnomu-dnyu-semi
END:VEVENT
END:VCALENDAR
