BEGIN:VCALENDAR
VERSION:2.0
PRODID:-//https://www.xn--h1aaafabldhkbrwa3l4c.xn--p1ai///NONSGML kigkonsult.se iCalcreator 2.10.15//
METHOD:PUBLISH
BEGIN:VEVENT
UID:20260424T003309MSK-52483lOxfO@https://www.xn--h1aaafabldhkbrwa3l4c.xn--
 p1ai/
DTSTAMP:20260423T213309Z
DESCRIPTION:Тематическая кинопрограмма «Помнит мир спасенный»\, посвященная
 &nbsp\;Дню Победы https://www.xn--h1aaafabldhkbrwa3l4c.xn--p1ai/meropriyat
 iya/kalendar-sobytij/event/391-tematicheskaya-kinoprogramma-pomnit-mir-spa
 sennyj-posvyashchennaya-dnyu-pobedy
DTSTART:20190501T071300Z
DTEND:20190512T091300Z
LOCATION:Республика Крым (Крым)
SUMMARY:Тематическая кинопрограмма «Помнит мир спасенный»\, посвященная  Дн
 ю Победы
URL:https://www.xn--h1aaafabldhkbrwa3l4c.xn--p1ai/meropriyatiya/kalendar-so
 bytij/event/391-tematicheskaya-kinoprogramma-pomnit-mir-spasennyj-posvyash
 chennaya-dnyu-pobedy
END:VEVENT
END:VCALENDAR
