BEGIN:VCALENDAR
VERSION:2.0
PRODID:-//https://www.xn--h1aaafabldhkbrwa3l4c.xn--p1ai///NONSGML kigkonsult.se iCalcreator 2.10.15//
METHOD:PUBLISH
BEGIN:VEVENT
UID:20260424T003228MSK-5327rWp6Du@https://www.xn--h1aaafabldhkbrwa3l4c.xn--
 p1ai/
DTSTAMP:20260423T213228Z
DESCRIPTION:Тематическая кинопрограмма к Дню Весны и Труда.\n&nbsp\; https:
 //www.xn--h1aaafabldhkbrwa3l4c.xn--p1ai/meropriyatiya/kalendar-sobytij/eve
 nt/390-tematicheskaya-kinoprogramma-k-dnyu-vesny-i-truda
DTSTART:20190430T210000Z
DTEND:20190503T063400Z
LOCATION:Республика Крым (Крым)
SUMMARY:Тематическая кинопрограмма к Дню Весны и Труда
URL:https://www.xn--h1aaafabldhkbrwa3l4c.xn--p1ai/meropriyatiya/kalendar-so
 bytij/event/390-tematicheskaya-kinoprogramma-k-dnyu-vesny-i-truda
END:VEVENT
END:VCALENDAR
