BEGIN:VCALENDAR
VERSION:2.0
PRODID:-//https://www.xn--h1aaafabldhkbrwa3l4c.xn--p1ai///NONSGML kigkonsult.se iCalcreator 2.10.15//
METHOD:PUBLISH
BEGIN:VEVENT
UID:20260424T015427MSK-9513NBgmVi@https://www.xn--h1aaafabldhkbrwa3l4c.xn--
 p1ai/
DTSTAMP:20260423T225427Z
DESCRIPTION:Тематическая программа фильмов к Дню памяти погибших в радиацио
 нных авариях и катастрофах (в память событий 26 апреля 1986 года на Черноб
 ыльской АЭС). https://www.xn--h1aaafabldhkbrwa3l4c.xn--p1ai/meropriyatiya/
 kalendar-sobytij/event/387-tematicheskaya-programma-filmov-k-dnyu-pamyati-
 pogibshikh-v-radiatsionnykh-avariyakh-i-katastrofakh
DTSTART:20190422T082800Z
DTEND:20190426T102800Z
LOCATION:Республика Крым (Крым)
SUMMARY:Тематическая программа фильмов к Дню памяти погибших в радиационных
  авариях и катастрофах
URL:https://www.xn--h1aaafabldhkbrwa3l4c.xn--p1ai/meropriyatiya/kalendar-so
 bytij/event/387-tematicheskaya-programma-filmov-k-dnyu-pamyati-pogibshikh-
 v-radiatsionnykh-avariyakh-i-katastrofakh
END:VEVENT
END:VCALENDAR
