BEGIN:VCALENDAR
VERSION:2.0
PRODID:-//https://www.xn--h1aaafabldhkbrwa3l4c.xn--p1ai///NONSGML kigkonsult.se iCalcreator 2.10.15//
METHOD:PUBLISH
BEGIN:VEVENT
UID:20260424T031758MSK-2943bnmcV3@https://www.xn--h1aaafabldhkbrwa3l4c.xn--
 p1ai/
DTSTAMP:20260424T001758Z
DESCRIPTION:Кинопрограмма «Премьеры российского кино»\, посвященная 5-летию
  Общекрымского референдума 2014 года и Дню воссоединения Крыма с Россией. 
 https://www.xn--h1aaafabldhkbrwa3l4c.xn--p1ai/meropriyatiya/kalendar-sobyt
 ij/event/378-kinoprogramma-premery-rossijskogo-kino-posvyashchennaya-5-let
 iyu-obshchekrymskogo-referenduma-2014-goda-i-dnyu-vossoedineniya-kryma-s-r
 ossiej
DTSTART:20190311T104600Z
DTEND:20190317T124600Z
LOCATION:Республика Крым (Крым)
SUMMARY:Кинопрограмма «Премьеры российского кино»\, посвященная 5-летию Общ
 екрымского референдума 2014 года и Дню воссоединения Крыма с Россией
URL:https://www.xn--h1aaafabldhkbrwa3l4c.xn--p1ai/meropriyatiya/kalendar-so
 bytij/event/378-kinoprogramma-premery-rossijskogo-kino-posvyashchennaya-5-
 letiyu-obshchekrymskogo-referenduma-2014-goda-i-dnyu-vossoedineniya-kryma-
 s-rossiej
END:VEVENT
END:VCALENDAR
