BEGIN:VCALENDAR
VERSION:2.0
PRODID:-//https://www.xn--h1aaafabldhkbrwa3l4c.xn--p1ai///NONSGML kigkonsult.se iCalcreator 2.10.15//
METHOD:PUBLISH
BEGIN:VEVENT
UID:20260424T042220MSK-7021BRo6S0@https://www.xn--h1aaafabldhkbrwa3l4c.xn--
 p1ai/
DTSTAMP:20260424T012220Z
DESCRIPTION:Киномероприятие «Мудрые басни Ивана Крылова» с просмотром прогр
 аммы экранизаций басен и мастер-классом по созданию анимационного ролика. 
 Проводят занятие ведущие методисты Ольга Казимирова и Анна Фоломеева. Нача
 ло в 15.00 https://www.xn--h1aaafabldhkbrwa3l4c.xn--p1ai/meropriyatiya/kal
 endar-sobytij/event/369-kinomeropriyatie-mudrye-basni-ivana-krylova
DTSTART:20190214T120000Z
DTEND:20190214T140000Z
LOCATION:ГБУ РК 'Крымский киномедиацентр' (г. Симферополь\, ул. Крылова\, 3
 7)
SUMMARY:Киномероприятие «Мудрые басни Ивана Крылова»
URL:https://www.xn--h1aaafabldhkbrwa3l4c.xn--p1ai/meropriyatiya/kalendar-so
 bytij/event/369-kinomeropriyatie-mudrye-basni-ivana-krylova
END:VEVENT
END:VCALENDAR
