BEGIN:VCALENDAR
VERSION:2.0
PRODID:-//https://www.xn--h1aaafabldhkbrwa3l4c.xn--p1ai///NONSGML kigkonsult.se iCalcreator 2.10.15//
METHOD:PUBLISH
BEGIN:VEVENT
UID:20260424T042328MSK-6144vV2aMo@https://www.xn--h1aaafabldhkbrwa3l4c.xn--
 p1ai/
DTSTAMP:20260424T012328Z
DESCRIPTION:Тематический показ фильмов-экранизаций по произведениям русског
 о публициста\, поэта\, баснописца Ивана Андреевича Крылова к 250-летию со 
 дня рождения&nbsp\;(13 февраля). https://www.xn--h1aaafabldhkbrwa3l4c.xn--
 p1ai/meropriyatiya/kalendar-sobytij/event/368-tematicheskij-pokaz-filmov-e
 kranizatsij-po-proizvedeniyam-ivana-andreevicha-krylova-k-250-letiyu-so-dn
 ya-rozhdeniya
DTSTART:20190211T113800Z
DTEND:20190214T133800Z
LOCATION:Республика Крым (Крым)
SUMMARY:Тематический показ фильмов-экранизаций по произведениям  Ивана Андр
 еевича Крылова к 250-летию со дня рождения 
URL:https://www.xn--h1aaafabldhkbrwa3l4c.xn--p1ai/meropriyatiya/kalendar-so
 bytij/event/368-tematicheskij-pokaz-filmov-ekranizatsij-po-proizvedeniyam-
 ivana-andreevicha-krylova-k-250-letiyu-so-dnya-rozhdeniya
END:VEVENT
END:VCALENDAR
