BEGIN:VCALENDAR
VERSION:2.0
PRODID:-//https://www.xn--h1aaafabldhkbrwa3l4c.xn--p1ai///NONSGML kigkonsult.se iCalcreator 2.10.15//
METHOD:PUBLISH
BEGIN:VEVENT
UID:20260424T042329MSK-0524OvDVPK@https://www.xn--h1aaafabldhkbrwa3l4c.xn--
 p1ai/
DTSTAMP:20260424T012329Z
DESCRIPTION:Тематический показ фильмов-экранизаций по произведениям А.С. Пу
 шкина\, посвященный Дню памяти поэта (10 февраля) https://www.xn--h1aaafab
 ldhkbrwa3l4c.xn--p1ai/meropriyatiya/kalendar-sobytij/event/366-tematichesk
 ij-pokaz-filmov-ekranizatsij-po-proizvedeniyam-a-s-pushkina
DTSTART:20190201T112300Z
DTEND:20190210T132300Z
LOCATION:Республика Крым (Крым)
SUMMARY:Тематический показ фильмов-экранизаций по произведениям А.С. Пушкин
 а
URL:https://www.xn--h1aaafabldhkbrwa3l4c.xn--p1ai/meropriyatiya/kalendar-so
 bytij/event/366-tematicheskij-pokaz-filmov-ekranizatsij-po-proizvedeniyam-
 a-s-pushkina
END:VEVENT
END:VCALENDAR
