BEGIN:VCALENDAR
VERSION:2.0
PRODID:-//https://www.xn--h1aaafabldhkbrwa3l4c.xn--p1ai///NONSGML kigkonsult.se iCalcreator 2.10.15//
METHOD:PUBLISH
BEGIN:VEVENT
UID:20260424T070105MSK-3081VThpWK@https://www.xn--h1aaafabldhkbrwa3l4c.xn--
 p1ai/
DTSTAMP:20260424T040105Z
DESCRIPTION:Тематическая кинопрограмма к Международному дню борьбы со СПИДо
 м. https://www.xn--h1aaafabldhkbrwa3l4c.xn--p1ai/meropriyatiya/kalendar-so
 bytij/event/339-tematicheskaya-kinoprogramma-k-mezhdunarodnomu-dnyu-borby-
 so-spidom
DTSTART:20181201T085700Z
DTEND:20181201T105700Z
LOCATION:Республика Крым (Крым)
SUMMARY:Тематическая кинопрограмма к Международному дню борьбы со СПИДом.
URL:https://www.xn--h1aaafabldhkbrwa3l4c.xn--p1ai/meropriyatiya/kalendar-so
 bytij/event/339-tematicheskaya-kinoprogramma-k-mezhdunarodnomu-dnyu-borby-
 so-spidom
END:VEVENT
END:VCALENDAR
