BEGIN:VCALENDAR
VERSION:2.0
PRODID:-//https://www.xn--h1aaafabldhkbrwa3l4c.xn--p1ai///NONSGML kigkonsult.se iCalcreator 2.10.15//
METHOD:PUBLISH
BEGIN:VEVENT
UID:20260424T081322MSK-2822ioADfE@https://www.xn--h1aaafabldhkbrwa3l4c.xn--
 p1ai/
DTSTAMP:20260424T051322Z
DESCRIPTION:Тематическая кинопрограмма к Дню народного единства https://www
 .xn--h1aaafabldhkbrwa3l4c.xn--p1ai/meropriyatiya/kalendar-sobytij/event/33
 2-tematicheskaya-kinoprogramma-k-dnyu-narodnogo-edinstva
DTSTART:20181101T065700Z
DTEND:20181104T125700Z
LOCATION:Республика Крым (Крым)
SUMMARY:Тематическая кинопрограмма к Дню народного единства
URL:https://www.xn--h1aaafabldhkbrwa3l4c.xn--p1ai/meropriyatiya/kalendar-so
 bytij/event/332-tematicheskaya-kinoprogramma-k-dnyu-narodnogo-edinstva
END:VEVENT
END:VCALENDAR
