BEGIN:VCALENDAR
VERSION:2.0
PRODID:-//https://www.xn--h1aaafabldhkbrwa3l4c.xn--p1ai///NONSGML kigkonsult.se iCalcreator 2.10.15//
METHOD:PUBLISH
BEGIN:VEVENT
UID:20260424T103444MSK-7407LSTavo@https://www.xn--h1aaafabldhkbrwa3l4c.xn--
 p1ai/
DTSTAMP:20260424T073444Z
DESCRIPTION:Тематическая кинопрограмма «Здравствуй\, школа!» к Дню знаний. 
 https://www.xn--h1aaafabldhkbrwa3l4c.xn--p1ai/meropriyatiya/kalendar-sobyt
 ij/event/323-kinoprogramma-zdravstvuj-shkola
DTSTART:20180901T070000Z
DTEND:20180904T120000Z
LOCATION:Республика Крым (Крым)
SUMMARY:Кинопрограмма «Здравствуй\, школа!»
URL:https://www.xn--h1aaafabldhkbrwa3l4c.xn--p1ai/meropriyatiya/kalendar-so
 bytij/event/323-kinoprogramma-zdravstvuj-shkola
END:VEVENT
END:VCALENDAR
