BEGIN:VCALENDAR
VERSION:2.0
PRODID:-//https://www.xn--h1aaafabldhkbrwa3l4c.xn--p1ai///NONSGML kigkonsult.se iCalcreator 2.10.15//
METHOD:PUBLISH
BEGIN:VEVENT
UID:20260424T104424MSK-0664xLaZCt@https://www.xn--h1aaafabldhkbrwa3l4c.xn--
 p1ai/
DTSTAMP:20260424T074424Z
DESCRIPTION:Участие в киновечере «Герои Толстого и кинематограф» к 190-лети
 ю со дня рождения писателя совместно с отделом культурно-досуговой работы 
 КРУНБ им. И. Я. Франко https://www.xn--h1aaafabldhkbrwa3l4c.xn--p1ai/merop
 riyatiya/kalendar-sobytij/event/322-kinovecher-geroi-tolstogo-i-kinematogr
 af-sobytie
DTSTART:20180917T094600Z
DTEND:20180917T150000Z
LOCATION:ГБУК РК «Крымская республиканская универсальная научная библиотека
  им. И.Я Франко» (Симферополь\, ул. Набережная\, 29a)
SUMMARY:Киновечер «Герои Толстого и кинематограф»событие
URL:https://www.xn--h1aaafabldhkbrwa3l4c.xn--p1ai/meropriyatiya/kalendar-so
 bytij/event/322-kinovecher-geroi-tolstogo-i-kinematograf-sobytie
END:VEVENT
END:VCALENDAR
