BEGIN:VCALENDAR
VERSION:2.0
PRODID:-//https://www.xn--h1aaafabldhkbrwa3l4c.xn--p1ai///NONSGML kigkonsult.se iCalcreator 2.10.15//
METHOD:PUBLISH
BEGIN:VEVENT
UID:20260424T104609MSK-1072lNtflV@https://www.xn--h1aaafabldhkbrwa3l4c.xn--
 p1ai/
DTSTAMP:20260424T074609Z
DESCRIPTION:Ретроспектива фильмов с участием Н.Г. Гундаревой (1948–2005) к 
 70-летию со дня рождения актрисы (28 августа) https://www.xn--h1aaafabldhk
 brwa3l4c.xn--p1ai/meropriyatiya/kalendar-sobytij/event/312-retrospektiva-f
 ilmov-s-uchastiem-n-g-gundarevoj
DTSTART:20180801T110000Z
DTEND:20180831T130000Z
LOCATION:Республика Крым (Крым)
SUMMARY:Ретроспектива фильмов с участием Н.Г. Гундаревой
URL:https://www.xn--h1aaafabldhkbrwa3l4c.xn--p1ai/meropriyatiya/kalendar-so
 bytij/event/312-retrospektiva-filmov-s-uchastiem-n-g-gundarevoj
END:VEVENT
END:VCALENDAR
