BEGIN:VCALENDAR
VERSION:2.0
PRODID:-//https://www.xn--h1aaafabldhkbrwa3l4c.xn--p1ai///NONSGML kigkonsult.se iCalcreator 2.10.15//
METHOD:PUBLISH
BEGIN:VEVENT
UID:20260424T104719MSK-02040oEnE4@https://www.xn--h1aaafabldhkbrwa3l4c.xn--
 p1ai/
DTSTAMP:20260424T074719Z
DESCRIPTION:Тематическая программа к Дню российского кино https://www.xn--h
 1aaafabldhkbrwa3l4c.xn--p1ai/meropriyatiya/kalendar-sobytij/event/308-tema
 ticheskaya-programma-k-dnyu-rossijskogo-kino
DTSTART:20180801T104400Z
DTEND:20180831T144400Z
LOCATION:Республика Крым (Крым)
SUMMARY:Тематическая программа к Дню российского кино
URL:https://www.xn--h1aaafabldhkbrwa3l4c.xn--p1ai/meropriyatiya/kalendar-so
 bytij/event/308-tematicheskaya-programma-k-dnyu-rossijskogo-kino
END:VEVENT
END:VCALENDAR
