BEGIN:VCALENDAR
VERSION:2.0
PRODID:-//https://www.xn--h1aaafabldhkbrwa3l4c.xn--p1ai///NONSGML kigkonsult.se iCalcreator 2.10.15//
METHOD:PUBLISH
BEGIN:VEVENT
UID:20260424T064702MSK-0480PKDb0n@https://www.xn--h1aaafabldhkbrwa3l4c.xn--
 p1ai/
DTSTAMP:20260424T034702Z
DESCRIPTION:Тематическая кинопрограмма «Новогодний киносерпантин». https://
 www.xn--h1aaafabldhkbrwa3l4c.xn--p1ai/meropriyatiya/kalendar-sobytij/event
 /345-tematicheskaya-kinoprogramma-novogodnij-kinoserpantin
DTSTART:20181225T091200Z
DTEND:20181231T111200Z
LOCATION:Республика Крым (Крым)
SUMMARY:Тематическая кинопрограмма «Новогодний киносерпантин».
URL:https://www.xn--h1aaafabldhkbrwa3l4c.xn--p1ai/meropriyatiya/kalendar-so
 bytij/event/345-tematicheskaya-kinoprogramma-novogodnij-kinoserpantin
END:VEVENT
END:VCALENDAR
