BEGIN:VCALENDAR
VERSION:2.0
PRODID:-//https://www.xn--h1aaafabldhkbrwa3l4c.xn--p1ai///NONSGML kigkonsult.se iCalcreator 2.10.15//
METHOD:PUBLISH
BEGIN:VEVENT
UID:20260423T142446MSK-71725OGdro@https://www.xn--h1aaafabldhkbrwa3l4c.xn--
 p1ai/
DTSTAMP:20260423T112446Z
DESCRIPTION: https://www.xn--h1aaafabldhkbrwa3l4c.xn--p1ai/meropriyatiya/ka
 lendar-sobytij/event/465-master-klass-metodista-kmts-folomeevoj-a-m-po-soz
 daniyu-videofilmov
DTSTART:20191214T080000Z
DTEND:20191214T100000Z
LOCATION:МАН «Искатель» (г. Симферополь\, ул. Гоголя\, 26)
SUMMARY:Мастер-класс методиста КМЦ Фоломеевой А.М. по созданию видеофильмов
  
URL:https://www.xn--h1aaafabldhkbrwa3l4c.xn--p1ai/meropriyatiya/kalendar-so
 bytij/event/465-master-klass-metodista-kmts-folomeevoj-a-m-po-sozdaniyu-vi
 deofilmov
END:VEVENT
END:VCALENDAR
