BEGIN:VCALENDAR
VERSION:2.0
PRODID:-//https://www.xn--h1aaafabldhkbrwa3l4c.xn--p1ai///NONSGML kigkonsult.se iCalcreator 2.10.15//
METHOD:PUBLISH
BEGIN:VEVENT
UID:20260424T064704MSK-89485Njv58@https://www.xn--h1aaafabldhkbrwa3l4c.xn--
 p1ai/
DTSTAMP:20260424T034704Z
DESCRIPTION:Тематическая программа фильмов правовой направленности к Междун
 ародному дню прав человека. https://www.xn--h1aaafabldhkbrwa3l4c.xn--p1ai/
 meropriyatiya/kalendar-sobytij/event/342-tematicheskaya-programma-filmov-p
 ravovoj-napravlennosti-k-mezhdunarodnomu-dnyu-prav-cheloveka
DTSTART:20181208T090500Z
DTEND:20181211T110500Z
LOCATION:Республика Крым (Крым)
SUMMARY:Тематическая программа фильмов правовой направленности к Международ
 ному дню прав человека.
URL:https://www.xn--h1aaafabldhkbrwa3l4c.xn--p1ai/meropriyatiya/kalendar-so
 bytij/event/342-tematicheskaya-programma-filmov-pravovoj-napravlennosti-k-
 mezhdunarodnomu-dnyu-prav-cheloveka
END:VEVENT
BEGIN:VEVENT
UID:20260424T064704MSK-8952bDCOzt@https://www.xn--h1aaafabldhkbrwa3l4c.xn--
 p1ai/
DTSTAMP:20260424T034704Z
DESCRIPTION:Тематическая кинопрограмма к Дню Конституции Российской Федерац
 ии. https://www.xn--h1aaafabldhkbrwa3l4c.xn--p1ai/meropriyatiya/kalendar-s
 obytij/event/343-tematicheskaya-kinoprogramma-k-dnyu-konstitutsii-rossijsk
 oj-federatsii
DTSTART:20181208T090800Z
DTEND:20181213T110800Z
LOCATION:Республика Крым (Крым)
SUMMARY:Тематическая кинопрограмма к Дню Конституции Российской Федерации.
URL:https://www.xn--h1aaafabldhkbrwa3l4c.xn--p1ai/meropriyatiya/kalendar-so
 bytij/event/343-tematicheskaya-kinoprogramma-k-dnyu-konstitutsii-rossijsko
 j-federatsii
END:VEVENT
END:VCALENDAR
