BEGIN:VCALENDAR
VERSION:2.0
PRODID:-//https://www.xn--h1aaafabldhkbrwa3l4c.xn--p1ai///NONSGML kigkonsult.se iCalcreator 2.10.15//
METHOD:PUBLISH
BEGIN:VEVENT
UID:20260424T064645MSK-0941Vjsrde@https://www.xn--h1aaafabldhkbrwa3l4c.xn--
 p1ai/
DTSTAMP:20260424T034645Z
DESCRIPTION:Тематическая кинопрограмма к Международному дню инвалидов. http
 s://www.xn--h1aaafabldhkbrwa3l4c.xn--p1ai/meropriyatiya/kalendar-sobytij/e
 vent/340-tematicheskaya-kinoprogramma-k-mezhdunarodnomu-dnyu-invalidov
DTSTART:20181202T090000Z
DTEND:20181204T110000Z
LOCATION:Республика Крым (Крым)
SUMMARY:Тематическая кинопрограмма к Международному дню инвалидов.
URL:https://www.xn--h1aaafabldhkbrwa3l4c.xn--p1ai/meropriyatiya/kalendar-so
 bytij/event/340-tematicheskaya-kinoprogramma-k-mezhdunarodnomu-dnyu-invali
 dov
END:VEVENT
BEGIN:VEVENT
UID:20260424T064645MSK-0946ewUHUR@https://www.xn--h1aaafabldhkbrwa3l4c.xn--
 p1ai/
DTSTAMP:20260424T034645Z
DESCRIPTION:Подведение итогов Республиканского конкурса социального кино и 
 телевидения.\nПроведение церемоний награждения победителей конкурса в реги
 онах Крыма. https://www.xn--h1aaafabldhkbrwa3l4c.xn--p1ai/meropriyatiya/ka
 lendar-sobytij/event/341-podvedenie-itogov-respublikanskogo-konkursa-sotsi
 alnogo-kino-i-televideniya
DTSTART:20181201T090200Z
DTEND:20181207T110200Z
LOCATION:Республика Крым (Крым)
SUMMARY:Подведение итогов Республиканского конкурса социального кино и теле
 видения.
URL:https://www.xn--h1aaafabldhkbrwa3l4c.xn--p1ai/meropriyatiya/kalendar-so
 bytij/event/341-podvedenie-itogov-respublikanskogo-konkursa-sotsialnogo-ki
 no-i-televideniya
END:VEVENT
END:VCALENDAR
