BEGIN:VCALENDAR
VERSION:2.0
PRODID:-//https://www.xn--h1aaafabldhkbrwa3l4c.xn--p1ai///NONSGML kigkonsult.se iCalcreator 2.10.15//
METHOD:PUBLISH
BEGIN:VEVENT
UID:20260424T080033MSK-56247FVXB5@https://www.xn--h1aaafabldhkbrwa3l4c.xn--
 p1ai/
DTSTAMP:20260424T050033Z
DESCRIPTION:Тематические показы к Дню матери в России&nbsp\; https://www.xn
 --h1aaafabldhkbrwa3l4c.xn--p1ai/meropriyatiya/kalendar-sobytij/event/338-t
 ematicheskie-pokazy-k-dnyu-materi-v-rossii
DTSTART:20181122T071600Z
DTEND:20181128T091600Z
LOCATION:Республика Крым (Крым)
SUMMARY:Тематические показы к Дню матери в России 
URL:https://www.xn--h1aaafabldhkbrwa3l4c.xn--p1ai/meropriyatiya/kalendar-so
 bytij/event/338-tematicheskie-pokazy-k-dnyu-materi-v-rossii
END:VEVENT
END:VCALENDAR
